Workbook

Sheet Certification Data
B2: Agency/Department Name
B3: 2026 IPPOR Summary Totals
B5: Certification Field | C5: Total | E5: Certification Field | F5: Total
B6: Locations | C6: =COUNTA('Plant Information'!A4:A12) -> 0 | E6: Total Staff | F6: =SUM(C7:C9) -> 0
B7: Management Staff | C7: =SUM('Plant Information'!G4:G12) -> 0 | E7: Digital Impressions | F7: =SUM('Plant Information'!N4:N12) -> 0
B8: Production Staff | C8: =SUM('Plant Information'!H4:H12) -> 0 | E8: Offset Impressions | F8: =SUM('Plant Information'!R4:R12) -> 0
B9: Support Staff | C9: =SUM('Plant Information'!I4:I12) -> 0 | E9: Total Impressions | F9: =SUM(F7:F8) -> 0
B10: Digital Press Equipment | C10: =SUM('Plant Information'!S4:S12) -> 0 | E10: Digital Production Hours | F10: =SUMIF(Equipment[Offset/ Digital],"Digital",Equipment[Annual Output Hours]) -> 0
B11: Offset Press Equipment | C11: =SUM('Plant Information'!T4:T12) -> 0 | E11: Offset Production Hours | F11: =SUMIF(Equipment[Offset/ Digital],"Offset",Equipment[Annual Output Hours]) -> 0
B12: Wide Format Press Equipment | C12: =SUM('Plant Information'!W4:W12) -> 0 | E12: Wide Format Production Hours | F12: =SUM(WideFormat[Annual Output Hours]) -> 0
B13: Bindery/Finishing Equipment | C13: =SUM('Plant Information'!Y4:Y12) -> 0 | E13: Bindery/Finishing Hours | F13: =SUM(BinderyFinishing[Annual Output Hours]) -> 0
B14: Total Equipment | C14: =SUM(C10:C13) -> 0 | E14: Total Production Hours | F14: =SUM(F10:F13) -> 0
B17: In-Plant Printing Operations Report
B18: REV - 8/2026
B21: NOTES:
B22: 1) The Standard Press Equipment tab cannot have rows inserted due to locked cells, but should have enough space to accommodate all press equipment from a given department.
B23: 2) Password for unprotecting any tab is IPPOR2026. Use with care.

Sheet Plant Information
A1: 2026 IPPOR - Location Summary
A2: Location Information | G2: Personnel | K2: Equipment Summary
A3: Location Name | B3: Address | C3: City | D3: Leased/ Owned | E3: Square Footage | F3: Number of Shifts | G3: Mgmt Staff | H3: Prod Staff | I3: Sup. Staff | J3: Total Staff | K3: Sheetfed Digital | L3: Rollfed Digital | M3: Dual Purpose Digital | N3: Digital Impressions | O3: Sheetfed Offset | P3: Rollfed Offset | Q3: Dual Purpose Offset | R3: Offset Impressions | S3: Total Digital Presses | T3: Total Offset Presses | U3: Total Production Hours | V3: Total Impressions | W3: Total Wide Format Presses | X3: Total Press EQ | Y3: Total Bindery EQ
G4: =SUM(Personnel!A$8:A$12) -> 0 | H4: =SUM(Personnel!A15:A19) -> 0 | I4: =SUM(Personnel!A22:A26) -> 0 | J4: =SUM(G4:I4) -> 0 | K4: =COUNTIFS(Equipment[[Offset/ Digital]:[Offset/ Digital]], "Digital",Equipment[[Rollfed/ Sheetfed]:[Rollfed/ Sheetfed]],"Sheetfed",Equipment[[Location]:[Location]],'Plant Information'!$A$4) -> 0 | L4: =COUNTIFS(Equipment[[Offset/ Digital]:[Offset/ Digital]], "Digital",Equipment[[Rollfed/ Sheetfed]:[Rollfed/ Sheetfed]],"Rollfed",Equipment[[Location]:[Location]],'Plant Information'!$A4) -> 0 | M4: =COUNTIFS(Equipment[[Offset/ Digital]:[Offset/ Digital]], "Digital",Equipment[[Rollfed/ Sheetfed]:[Rollfed/ Sheetfed]],"Sheetfed/Rollfed",Equipment[[Location]:[Location]],'Plant Information'!$A4) -> 0 | N4: =SUMIFS(Equipment[[Total 2026 Imp.]:[Total 2026 Imp.]],Equipment[[Location]:[Location]],'Plant Information'!$A4, Equipment[[Offset/ Digital]:[Offset/ Digital]], "Digital") -> 0 | O4: =COUNTIFS(Equipment[[Offset/ Digital]:[Offset/ Digital]], "Offset",Equipment[[Rollfed/ Sheetfed]:[Rollfed/ Sheetfed]],"Sheetfed",Equipment[[Location]:[Location]],'Plant Information'!$A$4) -> 0 | P4: =COUNTIFS(Equipment[[Offset/ Digital]:[Offset/ Digital]], "Offset",Equipment[[Rollfed/ Sheetfed]:[Rollfed/ Sheetfed]],"Rollfed",Equipment[[Location]:[Location]],'Plant Information'!$A4) -> 0 | Q4: =COUNTIFS(Equipment[[Offset/ Digital]:[Offset/ Digital]], "Offset",Equipment[[Rollfed/ Sheetfed]:[Rollfed/ Sheetfed]],"Sheetfed/Rollfed",Equipment[[Location]:[Location]],'Plant Information'!$A4) -> 0 | R4: =SUMIFS(Equipment[[Total 2026 Imp.]:[Total 2026 Imp.]],Equipment[[Location]:[Location]],'Plant Information'!$A4, Equipment[[Offset/ Digital]:[Offset/ Digital]], "Offset") -> 0 | S4: =SUM('Plant Information'!$K4:$M4) -> 0 | T4: =SUM('Plant Information'!$O4:$Q4) -> 0 | U4: =SUMIF(Equipment[Location],'Plant Information'!$A4,Equipment[Annual Output Hours]) -> 0 | V4: =SUM(R4,N4) -> 0 | W4: =COUNTIF(WideFormat[Location],'Plant Information'!$A4) -> 0 | X4: =SUM(S4,T4,W4) -> 0 | Y4: =COUNTIF(BinderyFinishing[Location],'Plant Information'!$A4) -> 0
G5: =SUM(Personnel!D8:D12) -> 0 | H5: =SUM(Personnel!D15:D19) -> 0 | I5: =SUM(Personnel!D22:D26) -> 0 | J5: =SUM(G5:I5) -> 0 | K5: =COUNTIFS(Equipment[[Offset/ Digital]:[Offset/ Digital]], "Digital",Equipment[[Rollfed/ Sheetfed]:[Rollfed/ Sheetfed]],"Sheetfed",Equipment[[Location]:[Location]],'Plant Information'!$A$5) -> 0 | L5: =COUNTIFS(Equipment[[Offset/ Digital]:[Offset/ Digital]], "Digital",Equipment[[Rollfed/ Sheetfed]:[Rollfed/ Sheetfed]],"Rollfed",Equipment[[Location]:[Location]],'Plant Information'!$A5) -> 0 | M5: =COUNTIFS(Equipment[[Offset/ Digital]:[Offset/ Digital]], "Digital",Equipment[[Rollfed/ Sheetfed]:[Rollfed/ Sheetfed]],"Sheetfed/Rollfed",Equipment[[Location]:[Location]],'Plant Information'!$A5) -> 0 | N5: =SUMIFS(Equipment[[Total 2026 Imp.]:[Total 2026 Imp.]],Equipment[[Location]:[Location]],'Plant Information'!$A5, Equipment[[Offset/ Digital]:[Offset/ Digital]], "Digital") -> 0 | O5: =COUNTIFS(Equipment[[Offset/ Digital]:[Offset/ Digital]], "Offset",Equipment[[Rollfed/ Sheetfed]:[Rollfed/ Sheetfed]],"Sheetfed",Equipment[[Location]:[Location]],'Plant Information'!$A$5) -> 0 | P5: =COUNTIFS(Equipment[[Offset/ Digital]:[Offset/ Digital]], "Offset",Equipment[[Rollfed/ Sheetfed]:[Rollfed/ Sheetfed]],"Rollfed",Equipment[[Location]:[Location]],'Plant Information'!$A5) -> 0 | Q5: =COUNTIFS(Equipment[[Offset/ Digital]:[Offset/ Digital]], "Offset",Equipment[[Rollfed/ Sheetfed]:[Rollfed/ Sheetfed]],"Sheetfed/Rollfed",Equipment[[Location]:[Location]],'Plant Information'!$A5) -> 0 | R5: =SUMIFS(Equipment[[Total 2026 Imp.]:[Total 2026 Imp.]],Equipment[[Location]:[Location]],'Plant Information'!$A5, Equipment[[Offset/ Digital]:[Offset/ Digital]], "Offset") -> 0 | S5: =SUM('Plant Information'!$K5:$M5) -> 0 | T5: =SUM('Plant Information'!$O5:$P5) -> 0 | U5: =SUMIF(Equipment[Location],'Plant Information'!$A5,Equipment[Annual Output Hours]) -> 0 | V5: =SUM(R5,N5) -> 0 | W5: =COUNTIF(WideFormat[Location],'Plant Information'!$A5) -> 0 | X5: =SUM(S5,T5,W5) -> 0 | Y5: =COUNTIF(BinderyFinishing[Location],'Plant Information'!$A5) -> 0
G6: =SUM(Personnel!G8:G12) -> 0 | H6: =SUM(Personnel!G15:G19) -> 0 | I6: =SUM(Personnel!G22:G26) -> 0 | J6: =SUM(G6:I6) -> 0 | K6: =COUNTIFS(Equipment[[Offset/ Digital]:[Offset/ Digital]], "Digital",Equipment[[Rollfed/ Sheetfed]:[Rollfed/ Sheetfed]],"Sheetfed",Equipment[[Location]:[Location]],'Plant Information'!$A$6) -> 0 | L6: =COUNTIFS(Equipment[[Offset/ Digital]:[Offset/ Digital]], "Digital",Equipment[[Rollfed/ Sheetfed]:[Rollfed/ Sheetfed]],"Rollfed",Equipment[[Location]:[Location]],'Plant Information'!$A6) -> 0 | M6: =COUNTIFS(Equipment[[Offset/ Digital]:[Offset/ Digital]], "Digital",Equipment[[Rollfed/ Sheetfed]:[Rollfed/ Sheetfed]],"Sheetfed/Rollfed",Equipment[[Location]:[Location]],'Plant Information'!$A6) -> 0 | N6: =SUMIFS(Equipment[[Total 2026 Imp.]:[Total 2026 Imp.]],Equipment[[Location]:[Location]],'Plant Information'!$A6, Equipment[[Offset/ Digital]:[Offset/ Digital]], "Digital") -> 0 | O6: =COUNTIFS(Equipment[[Offset/ Digital]:[Offset/ Digital]], "Offset",Equipment[[Rollfed/ Sheetfed]:[Rollfed/ Sheetfed]],"Sheetfed",Equipment[[Location]:[Location]],'Plant Information'!$A$6) -> 0 | P6: =COUNTIFS(Equipment[[Offset/ Digital]:[Offset/ Digital]], "Offset",Equipment[[Rollfed/ Sheetfed]:[Rollfed/ Sheetfed]],"Rollfed",Equipment[[Location]:[Location]],'Plant Information'!$A6) -> 0 | Q6: =COUNTIFS(Equipment[[Offset/ Digital]:[Offset/ Digital]], "Offset",Equipment[[Rollfed/ Sheetfed]:[Rollfed/ Sheetfed]],"Sheetfed/Rollfed",Equipment[[Location]:[Location]],'Plant Information'!$A6) -> 0 | R6: =SUMIFS(Equipment[[Total 2026 Imp.]:[Total 2026 Imp.]],Equipment[[Location]:[Location]],'Plant Information'!$A6, Equipment[[Offset/ Digital]:[Offset/ Digital]], "Offset") -> 0 | S6: =SUM('Plant Information'!$K6:$M6) -> 0 | T6: =SUM('Plant Information'!$O6:$P6) -> 0 | U6: =SUMIF(Equipment[Location],'Plant Information'!$A6,Equipment[Annual Output Hours]) -> 0 | V6: =SUM(R6,N6) -> 0 | W6: =COUNTIF(WideFormat[Location],'Plant Information'!$A6) -> 0 | X6: =SUM(S6,T6,W6) -> 0 | Y6: =COUNTIF(BinderyFinishing[Location],'Plant Information'!$A6) -> 0
G7: =SUM(Personnel!A$34:A$38) -> 0 | H7: =SUM(Personnel!A$41:A$45) -> 0 | I7: =SUM(Personnel!A$48:A$52) -> 0 | J7: =SUM(G7:I7) -> 0 | K7: =COUNTIFS(Equipment[[Offset/ Digital]:[Offset/ Digital]], "Digital",Equipment[[Rollfed/ Sheetfed]:[Rollfed/ Sheetfed]],"Sheetfed",Equipment[[Location]:[Location]],'Plant Information'!$A$7) -> 0 | L7: =COUNTIFS(Equipment[[Offset/ Digital]:[Offset/ Digital]], "Digital",Equipment[[Rollfed/ Sheetfed]:[Rollfed/ Sheetfed]],"Rollfed",Equipment[[Location]:[Location]],'Plant Information'!$A7) -> 0 | M7: =COUNTIFS(Equipment[[Offset/ Digital]:[Offset/ Digital]], "Digital",Equipment[[Rollfed/ Sheetfed]:[Rollfed/ Sheetfed]],"Sheetfed/Rollfed",Equipment[[Location]:[Location]],'Plant Information'!$A7) -> 0 | N7: =SUMIFS(Equipment[[Total 2026 Imp.]:[Total 2026 Imp.]],Equipment[[Location]:[Location]],'Plant Information'!$A7, Equipment[[Offset/ Digital]:[Offset/ Digital]], "Digital") -> 0 | O7: =COUNTIFS(Equipment[[Offset/ Digital]:[Offset/ Digital]], "Offset",Equipment[[Rollfed/ Sheetfed]:[Rollfed/ Sheetfed]],"Sheetfed",Equipment[[Location]:[Location]],'Plant Information'!$A$7) -> 0 | P7: =COUNTIFS(Equipment[[Offset/ Digital]:[Offset/ Digital]], "Offset",Equipment[[Rollfed/ Sheetfed]:[Rollfed/ Sheetfed]],"Rollfed",Equipment[[Location]:[Location]],'Plant Information'!$A7) -> 0 | Q7: =COUNTIFS(Equipment[[Offset/ Digital]:[Offset/ Digital]], "Offset",Equipment[[Rollfed/ Sheetfed]:[Rollfed/ Sheetfed]],"Sheetfed/Rollfed",Equipment[[Location]:[Location]],'Plant Information'!$A7) -> 0 | R7: =SUMIFS(Equipment[[Total 2026 Imp.]:[Total 2026 Imp.]],Equipment[[Location]:[Location]],'Plant Information'!$A7, Equipment[[Offset/ Digital]:[Offset/ Digital]], "Offset") -> 0 | S7: =SUM('Plant Information'!$K7:$M7) -> 0 | T7: =SUM('Plant Information'!$O7:$P7) -> 0 | U7: =SUMIF(Equipment[Location],'Plant Information'!$A7,Equipment[Annual Output Hours]) -> 0 | V7: =SUM(R7,N7) -> 0 | W7: =COUNTIF(WideFormat[Location],'Plant Information'!$A7) -> 0 | X7: =SUM(S7,T7,W7) -> 0 | Y7: =COUNTIF(BinderyFinishing[Location],'Plant Information'!$A7) -> 0
G8: =SUM(Personnel!D$34:D$38) -> 0 | H8: =SUM(Personnel!D$41:D$45) -> 0 | I8: =SUM(Personnel!D$48:D$52) -> 0 | J8: =SUM(G8:I8) -> 0 | K8: =COUNTIFS(Equipment[[Offset/ Digital]:[Offset/ Digital]], "Digital",Equipment[[Rollfed/ Sheetfed]:[Rollfed/ Sheetfed]],"Sheetfed",Equipment[[Location]:[Location]],'Plant Information'!$A$8) -> 0 | L8: =COUNTIFS(Equipment[[Offset/ Digital]:[Offset/ Digital]], "Digital",Equipment[[Rollfed/ Sheetfed]:[Rollfed/ Sheetfed]],"Rollfed",Equipment[[Location]:[Location]],'Plant Information'!$A8) -> 0 | M8: =COUNTIFS(Equipment[[Offset/ Digital]:[Offset/ Digital]], "Digital",Equipment[[Rollfed/ Sheetfed]:[Rollfed/ Sheetfed]],"Sheetfed/Rollfed",Equipment[[Location]:[Location]],'Plant Information'!$A8) -> 0 | N8: =SUMIFS(Equipment[[Total 2026 Imp.]:[Total 2026 Imp.]],Equipment[[Location]:[Location]],'Plant Information'!$A8, Equipment[[Offset/ Digital]:[Offset/ Digital]], "Digital") -> 0 | O8: =COUNTIFS(Equipment[[Offset/ Digital]:[Offset/ Digital]], "Offset",Equipment[[Rollfed/ Sheetfed]:[Rollfed/ Sheetfed]],"Sheetfed",Equipment[[Location]:[Location]],'Plant Information'!$A$8) -> 0 | P8: =COUNTIFS(Equipment[[Offset/ Digital]:[Offset/ Digital]], "Offset",Equipment[[Rollfed/ Sheetfed]:[Rollfed/ Sheetfed]],"Rollfed",Equipment[[Location]:[Location]],'Plant Information'!$A8) -> 0 | Q8: =COUNTIFS(Equipment[[Offset/ Digital]:[Offset/ Digital]], "Offset",Equipment[[Rollfed/ Sheetfed]:[Rollfed/ Sheetfed]],"Sheetfed/Rollfed",Equipment[[Location]:[Location]],'Plant Information'!$A8) -> 0 | R8: =SUMIFS(Equipment[[Total 2026 Imp.]:[Total 2026 Imp.]],Equipment[[Location]:[Location]],'Plant Information'!$A8, Equipment[[Offset/ Digital]:[Offset/ Digital]], "Offset") -> 0 | S8: =SUM('Plant Information'!$K8:$M8) -> 0 | T8: =SUM('Plant Information'!$O8:$P8) -> 0 | U8: =SUMIF(Equipment[Location],'Plant Information'!$A8,Equipment[Annual Output Hours]) -> 0 | V8: =SUM(R8,N8) -> 0 | W8: =COUNTIF(WideFormat[Location],'Plant Information'!$A8) -> 0 | X8: =SUM(S8,T8,W8) -> 0 | Y8: =COUNTIF(BinderyFinishing[Location],'Plant Information'!$A8) -> 0
G9: =SUM(Personnel!G$34:G$38) -> 0 | H9: =SUM(Personnel!G$41:G$45) -> 0 | I9: =SUM(Personnel!G$48:G$52) -> 0 | J9: =SUM(G9:I9) -> 0 | K9: =COUNTIFS(Equipment[[Offset/ Digital]:[Offset/ Digital]], "Digital",Equipment[[Rollfed/ Sheetfed]:[Rollfed/ Sheetfed]],"Sheetfed",Equipment[[Location]:[Location]],'Plant Information'!$A$9) -> 0 | L9: =COUNTIFS(Equipment[[Offset/ Digital]:[Offset/ Digital]], "Digital",Equipment[[Rollfed/ Sheetfed]:[Rollfed/ Sheetfed]],"Rollfed",Equipment[[Location]:[Location]],'Plant Information'!$A9) -> 0 | M9: =COUNTIFS(Equipment[[Offset/ Digital]:[Offset/ Digital]], "Digital",Equipment[[Rollfed/ Sheetfed]:[Rollfed/ Sheetfed]],"Sheetfed/Rollfed",Equipment[[Location]:[Location]],'Plant Information'!$A9) -> 0 | N9: =SUMIFS(Equipment[[Total 2026 Imp.]:[Total 2026 Imp.]],Equipment[[Location]:[Location]],'Plant Information'!$A9, Equipment[[Offset/ Digital]:[Offset/ Digital]], "Digital") -> 0 | O9: =COUNTIFS(Equipment[[Offset/ Digital]:[Offset/ Digital]], "Offset",Equipment[[Rollfed/ Sheetfed]:[Rollfed/ Sheetfed]],"Sheetfed",Equipment[[Location]:[Location]],'Plant Information'!$A$9) -> 0 | P9: =COUNTIFS(Equipment[[Offset/ Digital]:[Offset/ Digital]], "Offset",Equipment[[Rollfed/ Sheetfed]:[Rollfed/ Sheetfed]],"Rollfed",Equipment[[Location]:[Location]],'Plant Information'!$A9) -> 0 | Q9: =COUNTIFS(Equipment[[Offset/ Digital]:[Offset/ Digital]], "Offset",Equipment[[Rollfed/ Sheetfed]:[Rollfed/ Sheetfed]],"Sheetfed/Rollfed",Equipment[[Location]:[Location]],'Plant Information'!$A9) -> 0 | R9: =SUMIFS(Equipment[[Total 2026 Imp.]:[Total 2026 Imp.]],Equipment[[Location]:[Location]],'Plant Information'!$A9, Equipment[[Offset/ Digital]:[Offset/ Digital]], "Offset") -> 0 | S9: =SUM('Plant Information'!$K9:$M9) -> 0 | T9: =SUM('Plant Information'!$O9:$P9) -> 0 | U9: =SUMIF(Equipment[Location],'Plant Information'!$A9,Equipment[Annual Output Hours]) -> 0 | V9: =SUM(R9,N9) -> 0 | W9: =COUNTIF(WideFormat[Location],'Plant Information'!$A9) -> 0 | X9: =SUM(S9,T9,W9) -> 0 | Y9: =COUNTIF(BinderyFinishing[Location],'Plant Information'!$A9) -> 0
G10: =SUM(Personnel!A$60:A64) -> 0 | H10: =SUM(Personnel!A$67:A$71) -> 0 | I10: =SUM(Personnel!A$74:A$78) -> 0 | J10: =SUM(G10:I10) -> 0 | K10: =COUNTIFS(Equipment[[Offset/ Digital]:[Offset/ Digital]], "Digital",Equipment[[Rollfed/ Sheetfed]:[Rollfed/ Sheetfed]],"Sheetfed",Equipment[[Location]:[Location]],'Plant Information'!$A$10) -> 0 | L10: =COUNTIFS(Equipment[[Offset/ Digital]:[Offset/ Digital]], "Digital",Equipment[[Rollfed/ Sheetfed]:[Rollfed/ Sheetfed]],"Rollfed",Equipment[[Location]:[Location]],'Plant Information'!$A10) -> 0 | M10: =COUNTIFS(Equipment[[Offset/ Digital]:[Offset/ Digital]], "Digital",Equipment[[Rollfed/ Sheetfed]:[Rollfed/ Sheetfed]],"Sheetfed/Rollfed",Equipment[[Location]:[Location]],'Plant Information'!$A10) -> 0 | N10: =SUMIFS(Equipment[[Total 2026 Imp.]:[Total 2026 Imp.]],Equipment[[Location]:[Location]],'Plant Information'!$A10, Equipment[[Offset/ Digital]:[Offset/ Digital]], "Digital") -> 0 | O10: =COUNTIFS(Equipment[[Offset/ Digital]:[Offset/ Digital]], "Offset",Equipment[[Rollfed/ Sheetfed]:[Rollfed/ Sheetfed]],"Sheetfed",Equipment[[Location]:[Location]],'Plant Information'!$A$10) -> 0 | P10: =COUNTIFS(Equipment[[Offset/ Digital]:[Offset/ Digital]], "Offset",Equipment[[Rollfed/ Sheetfed]:[Rollfed/ Sheetfed]],"Rollfed",Equipment[[Location]:[Location]],'Plant Information'!$A10) -> 0 | Q10: =COUNTIFS(Equipment[[Offset/ Digital]:[Offset/ Digital]], "Offset",Equipment[[Rollfed/ Sheetfed]:[Rollfed/ Sheetfed]],"Sheetfed/Rollfed",Equipment[[Location]:[Location]],'Plant Information'!$A10) -> 0 | R10: =SUMIFS(Equipment[[Total 2026 Imp.]:[Total 2026 Imp.]],Equipment[[Location]:[Location]],'Plant Information'!$A10, Equipment[[Offset/ Digital]:[Offset/ Digital]], "Offset") -> 0 | S10: =SUM('Plant Information'!$K10:$M10) -> 0 | T10: =SUM('Plant Information'!$O10:$P10) -> 0 | U10: =SUMIF(Equipment[Location],'Plant Information'!$A10,Equipment[Annual Output Hours]) -> 0 | V10: =SUM(R10,N10) -> 0 | W10: =COUNTIF(WideFormat[Location],'Plant Information'!$A10) -> 0 | X10: =SUM(S10,T10,W10) -> 0 | Y10: =COUNTIF(BinderyFinishing[Location],'Plant Information'!$A10) -> 0
G11: =SUM(Personnel!D$60:D$64) -> 0 | H11: =SUM(Personnel!D$67:D$71) -> 0 | I11: =SUM(Personnel!D$74:D$78) -> 0 | J11: =SUM(G11:I11) -> 0 | K11: =COUNTIFS(Equipment[[Offset/ Digital]:[Offset/ Digital]], "Digital",Equipment[[Rollfed/ Sheetfed]:[Rollfed/ Sheetfed]],"Sheetfed",Equipment[[Location]:[Location]],'Plant Information'!$A$11) -> 0 | L11: =COUNTIFS(Equipment[[Offset/ Digital]:[Offset/ Digital]], "Digital",Equipment[[Rollfed/ Sheetfed]:[Rollfed/ Sheetfed]],"Rollfed",Equipment[[Location]:[Location]],'Plant Information'!$A11) -> 0 | M11: =COUNTIFS(Equipment[[Offset/ Digital]:[Offset/ Digital]], "Digital",Equipment[[Rollfed/ Sheetfed]:[Rollfed/ Sheetfed]],"Sheetfed/Rollfed",Equipment[[Location]:[Location]],'Plant Information'!$A11) -> 0 | N11: =SUMIFS(Equipment[[Total 2026 Imp.]:[Total 2026 Imp.]],Equipment[[Location]:[Location]],'Plant Information'!$A11, Equipment[[Offset/ Digital]:[Offset/ Digital]], "Digital") -> 0 | O11: =COUNTIFS(Equipment[[Offset/ Digital]:[Offset/ Digital]], "Offset",Equipment[[Rollfed/ Sheetfed]:[Rollfed/ Sheetfed]],"Sheetfed",Equipment[[Location]:[Location]],'Plant Information'!$A$11) -> 0 | P11: =COUNTIFS(Equipment[[Offset/ Digital]:[Offset/ Digital]], "Offset",Equipment[[Rollfed/ Sheetfed]:[Rollfed/ Sheetfed]],"Rollfed",Equipment[[Location]:[Location]],'Plant Information'!$A11) -> 0 | Q11: =COUNTIFS(Equipment[[Offset/ Digital]:[Offset/ Digital]], "Offset",Equipment[[Rollfed/ Sheetfed]:[Rollfed/ Sheetfed]],"Sheetfed/Rollfed",Equipment[[Location]:[Location]],'Plant Information'!$A11) -> 0 | R11: =SUMIFS(Equipment[[Total 2026 Imp.]:[Total 2026 Imp.]],Equipment[[Location]:[Location]],'Plant Information'!$A11, Equipment[[Offset/ Digital]:[Offset/ Digital]], "Offset") -> 0 | S11: =SUM('Plant Information'!$K11:$M11) -> 0 | T11: =SUM('Plant Information'!$O11:$P11) -> 0 | U11: =SUMIF(Equipment[Location],'Plant Information'!$A11,Equipment[Annual Output Hours]) -> 0 | V11: =SUM(R11,N11) -> 0 | W11: =COUNTIF(WideFormat[Location],'Plant Information'!$A11) -> 0 | X11: =SUM(S11,T11,W11) -> 0 | Y11: =COUNTIF(BinderyFinishing[Location],'Plant Information'!$A11) -> 0
G12: =SUM(Personnel!G$60:G$64) -> 0 | H12: =SUM(Personnel!G$67:G$71) -> 0 | I12: =SUM(Personnel!G$74:G$78) -> 0 | J12: =SUM(G12:I12) -> 0 | K12: =COUNTIFS(Equipment[[Offset/ Digital]:[Offset/ Digital]], "Digital",Equipment[[Rollfed/ Sheetfed]:[Rollfed/ Sheetfed]],"Sheetfed",Equipment[[Location]:[Location]],'Plant Information'!$A$12) -> 0 | L12: =COUNTIFS(Equipment[[Offset/ Digital]:[Offset/ Digital]], "Digital",Equipment[[Rollfed/ Sheetfed]:[Rollfed/ Sheetfed]],"Rollfed",Equipment[[Location]:[Location]],'Plant Information'!$A12) -> 0 | M12: =COUNTIFS(Equipment[[Offset/ Digital]:[Offset/ Digital]], "Digital",Equipment[[Rollfed/ Sheetfed]:[Rollfed/ Sheetfed]],"Sheetfed/Rollfed",Equipment[[Location]:[Location]],'Plant Information'!$A12) -> 0 | N12: =SUMIFS(Equipment[[Total 2026 Imp.]:[Total 2026 Imp.]],Equipment[[Location]:[Location]],'Plant Information'!$A12, Equipment[[Offset/ Digital]:[Offset/ Digital]], "Digital") -> 0 | O12: =COUNTIFS(Equipment[[Offset/ Digital]:[Offset/ Digital]], "Offset",Equipment[[Rollfed/ Sheetfed]:[Rollfed/ Sheetfed]],"Sheetfed",Equipment[[Location]:[Location]],'Plant Information'!$A$12) -> 0 | P12: =COUNTIFS(Equipment[[Offset/ Digital]:[Offset/ Digital]], "Offset",Equipment[[Rollfed/ Sheetfed]:[Rollfed/ Sheetfed]],"Rollfed",Equipment[[Location]:[Location]],'Plant Information'!$A12) -> 0 | Q12: =COUNTIFS(Equipment[[Offset/ Digital]:[Offset/ Digital]], "Offset",Equipment[[Rollfed/ Sheetfed]:[Rollfed/ Sheetfed]],"Sheetfed/Rollfed",Equipment[[Location]:[Location]],'Plant Information'!$A12) -> 0 | R12: =SUMIFS(Equipment[[Total 2026 Imp.]:[Total 2026 Imp.]],Equipment[[Location]:[Location]],'Plant Information'!$A12, Equipment[[Offset/ Digital]:[Offset/ Digital]], "Offset") -> 0 | S12: =SUM('Plant Information'!$K12:$M12) -> 0 | T12: =SUM('Plant Information'!$O12:$P12) -> 0 | U12: =SUMIF(Equipment[Location],'Plant Information'!$A12,Equipment[Annual Output Hours]) -> 0 | V12: =SUM(R12,N12) -> 0 | W12: =COUNTIF(WideFormat[Location],'Plant Information'!$A12) -> 0 | X12: =SUM(S12,T12,W12) -> 0 | Y12: =COUNTIF(BinderyFinishing[Location],'Plant Information'!$A12) -> 0
A16: Production Information
A17: Product | B17: Annual Quantity | C17: Average Pages
A47: Total Annual Finished Pieces | C47: =SUM(Production[Annual Quantity]) -> 0

Sheet Personnel
A2: In-Plant Personnel
A4: =IF(ISTEXT('Plant Information'!A4),'Plant Information'!$A4,"N/A") -> N/A | D4: =IF(ISTEXT('Plant Information'!A5),'Plant Information'!$A5,"N/A") -> N/A | G4: =IF(ISTEXT('Plant Information'!A6),'Plant Information'!$A6,"N/A") -> N/A
A5: Total Staff: | B5: =SUM(A8:A12,A15:A19,A22:A26) -> 0 | D5: Total Staff: | E5: =SUM(D8:D12,D15:D19,D22:D26) -> 0 | G5: Total Staff: | H5: =SUM(G8:G12,G15:G19,G22:G26) -> 0
A6: Management Staff | D6: Management Staff | G6: Management Staff
A7: Number of Postions | B7: Classification Name | D7: Number of Postions | E7: Classification Name | G7: Number of Postions | H7: Classification Name
A13: Production Staff | D13: Production Staff | G13: Production Staff
A14: Number of Postions | B14: Classification Name | D14: Number of Postions | E14: Classification Name | G14: Number of Postions | H14: Classification Name
A20: Support Staff | D20: Support Staff | G20: Support Staff
A21: Number of Postions | B21: Classification Name | D21: Number of Postions | E21: Classification Name | G21: Number of Postions | H21: Classification Name
A27: Notes | D27: Notes | G27: Notes
A30: =IF(ISTEXT('Plant Information'!A7),'Plant Information'!$A7,"N/A") -> N/A | D30: =IF(ISTEXT('Plant Information'!A8),'Plant Information'!$A8,"N/A") -> N/A | G30: =IF(ISTEXT('Plant Information'!A9),'Plant Information'!$A9,"N/A") -> N/A
A31: Total Staff: | B31: =SUM(A34:A38,A41:A45,A48:A52) -> 0 | D31: Total Staff: | E31: =SUM(D34:D38,D41:D45,D48:D52) -> 0 | G31: Total Staff: | H31: =SUM(G34:G38,G41:G45,G48:G52) -> 0
A32: Management Staff | D32: Management Staff | G32: Management Staff
A33: Number of Postions | B33: Classification Name | D33: Number of Postions | E33: Classification Name | G33: Number of Postions | H33: Classification Name
A39: Production Staff | D39: Production Staff | G39: Production Staff
A40: Number of Postions | B40: Classification Name | D40: Number of Postions | E40: Classification Name | G40: Number of Postions | H40: Classification Name
A46: Support Staff | D46: Support Staff | G46: Support Staff
A47: Number of Postions | B47: Classification Name | D47: Number of Postions | E47: Classification Name | G47: Number of Postions | H47: Classification Name
A53: Notes | D53: Notes | G53: Notes
A56: =IF(ISTEXT('Plant Information'!A10),'Plant Information'!$A10,"N/A") -> N/A | D56: =IF(ISTEXT('Plant Information'!A11),'Plant Information'!$A11,"N/A") -> N/A | G56: =IF(ISTEXT('Plant Information'!A12),'Plant Information'!$A12,"N/A") -> N/A
A57: Total Staff: | B57: =SUM(A60:A64,A67:A71,A74:A78) -> 0 | D57: Total Staff: | E57: =SUM(D60:D64,D67:D71,D74:D78) -> 0 | G57: Total Staff: | H57: =SUM(G60:G64,G67:G71,G74:G78) -> 0
A58: Management Staff | D58: Management Staff | G58: Management Staff
A59: Number of Postions | B59: Classification Name | D59: Number of Postions | E59: Classification Name | G59: Number of Postions | H59: Classification Name
A65: Production Staff | D65: Production Staff | G65: Production Staff
A66: Number of Postions | B66: Classification Name | D66: Number of Postions | E66: Classification Name | G66: Number of Postions | H66: Classification Name
A72: Support Staff | D72: Support Staff | G72: Support Staff
A73: Number of Postions | B73: Classification Name | D73: Number of Postions | E73: Classification Name | G73: Number of Postions | H73: Classification Name
A79: Notes | D79: Notes | G79: Notes

Sheet Standard Press Equipment
A1: Make | B1: Model | C1: Location | D1: Offset/ Digital | E1: Rollfed/ Sheetfed | F1: Asset Tag | G1: Year Acquired | H1: Daily Shifts | I1: Status | J1: Imp. Size | K1: Monthly Service Charge | L1: Click Charge | M1: Annual Output Hours | N1: 2025 Meter | O1: 2026 Meter | P1: Total 2026 Imp. | Q1: Manufacturer Rated Speed | R1: Average Operating Speed (IPM) | S1: Notes
P2: =IF(Equipment[[#This Row],[2026 Meter]]>=0, Equipment[[#This Row],[2026 Meter]]-Equipment[[#This Row],[2025 Meter ]], "-") -> 0 | R2: =IF(Equipment[[#This Row],[2026 Meter]]>0,Equipment[[#This Row],[Total 2026 Imp.]]/Equipment[[#This Row],[Annual Output Hours]]/60, "-") -> -
P3: =IF(Equipment[[#This Row],[2026 Meter]]>=0, Equipment[[#This Row],[2026 Meter]]-Equipment[[#This Row],[2025 Meter ]], "-") -> 0 | R3: =IF(Equipment[[#This Row],[2026 Meter]]>0,Equipment[[#This Row],[Total 2026 Imp.]]/Equipment[[#This Row],[Annual Output Hours]]/60, "-") -> -
P4: =IF(Equipment[[#This Row],[2026 Meter]]>=0, Equipment[[#This Row],[2026 Meter]]-Equipment[[#This Row],[2025 Meter ]], "-") -> 0 | R4: =IF(Equipment[[#This Row],[2026 Meter]]>0,Equipment[[#This Row],[Total 2026 Imp.]]/Equipment[[#This Row],[Annual Output Hours]]/60, "-") -> -
P5: =IF(Equipment[[#This Row],[2026 Meter]]>=0, Equipment[[#This Row],[2026 Meter]]-Equipment[[#This Row],[2025 Meter ]], "-") -> 0 | R5: =IF(Equipment[[#This Row],[2026 Meter]]>0,Equipment[[#This Row],[Total 2026 Imp.]]/Equipment[[#This Row],[Annual Output Hours]]/60, "-") -> -
P6: =IF(Equipment[[#This Row],[2026 Meter]]>=0, Equipment[[#This Row],[2026 Meter]]-Equipment[[#This Row],[2025 Meter ]], "-") -> 0 | R6: =IF(Equipment[[#This Row],[2026 Meter]]>0,Equipment[[#This Row],[Total 2026 Imp.]]/Equipment[[#This Row],[Annual Output Hours]]/60, "-") -> -
P7: =IF(Equipment[[#This Row],[2026 Meter]]>=0, Equipment[[#This Row],[2026 Meter]]-Equipment[[#This Row],[2025 Meter ]], "-") -> 0 | R7: =IF(Equipment[[#This Row],[2026 Meter]]>0,Equipment[[#This Row],[Total 2026 Imp.]]/Equipment[[#This Row],[Annual Output Hours]]/60, "-") -> -
P8: =IF(Equipment[[#This Row],[2026 Meter]]>=0, Equipment[[#This Row],[2026 Meter]]-Equipment[[#This Row],[2025 Meter ]], "-") -> 0 | R8: =IF(Equipment[[#This Row],[2026 Meter]]>0,Equipment[[#This Row],[Total 2026 Imp.]]/Equipment[[#This Row],[Annual Output Hours]]/60, "-") -> -
P9: =IF(Equipment[[#This Row],[2026 Meter]]>=0, Equipment[[#This Row],[2026 Meter]]-Equipment[[#This Row],[2025 Meter ]], "-") -> 0 | R9: =IF(Equipment[[#This Row],[2026 Meter]]>0,Equipment[[#This Row],[Total 2026 Imp.]]/Equipment[[#This Row],[Annual Output Hours]]/60, "-") -> -
P10: =IF(Equipment[[#This Row],[2026 Meter]]>=0, Equipment[[#This Row],[2026 Meter]]-Equipment[[#This Row],[2025 Meter ]], "-") -> 0 | R10: =IF(Equipment[[#This Row],[2026 Meter]]>0,Equipment[[#This Row],[Total 2026 Imp.]]/Equipment[[#This Row],[Annual Output Hours]]/60, "-") -> -
P11: =IF(Equipment[[#This Row],[2026 Meter]]>=0, Equipment[[#This Row],[2026 Meter]]-Equipment[[#This Row],[2025 Meter ]], "-") -> 0 | R11: =IF(Equipment[[#This Row],[2026 Meter]]>0,Equipment[[#This Row],[Total 2026 Imp.]]/Equipment[[#This Row],[Annual Output Hours]]/60, "-") -> -
P12: =IF(Equipment[[#This Row],[2026 Meter]]>=0, Equipment[[#This Row],[2026 Meter]]-Equipment[[#This Row],[2025 Meter ]], "-") -> 0 | R12: =IF(Equipment[[#This Row],[2026 Meter]]>0,Equipment[[#This Row],[Total 2026 Imp.]]/Equipment[[#This Row],[Annual Output Hours]]/60, "-") -> -
P13: =IF(Equipment[[#This Row],[2026 Meter]]>=0, Equipment[[#This Row],[2026 Meter]]-Equipment[[#This Row],[2025 Meter ]], "-") -> 0 | R13: =IF(Equipment[[#This Row],[2026 Meter]]>0,Equipment[[#This Row],[Total 2026 Imp.]]/Equipment[[#This Row],[Annual Output Hours]]/60, "-") -> -
... P51: =IF(Equipment[[#This Row],[2026 Meter]]>=0, Equipment[[#This Row],[2026 Meter]]-Equipment[[#This Row],[2025 Meter ]], "-") -> 0 | R51: =IF(Equipment[[#This Row],[2026 Meter]]>0,Equipment[[#This Row],[Total 2026 Imp.]]/Equipment[[#This Row],[Annual Output Hours]]/60, "-") -> -

Sheet Wide Format Press Equipment
A1: Make | B1: Model | C1: Location | D1: Offset/ Digital | E1: Asset Tag | F1: Year Acquired | G1: Daily Shifts | H1: Status | I1: Monthly Service Charge | J1: Click Charge | K1: Max Impression Size | L1: Annual Output Hours | M1: Manufacturer Rated Speed | N1: Notes

Sheet Bindery and Finishing Equipment
A1: Make | B1: Model | C1: Location | D1: Main Function | E1: Asset Tag | F1: Year Acquired | G1: Daily Shifts | H1: Status | I1: Monthly Service Charge | J1: Annual Output Hours | K1: Manufacturer Rated Speed | L1: Notes

Sheet DataValidation Lists Personnel
A1: Management | C1: Production | E1: Support
A2: ADMINISTRATOR I | C2: AUDIO VISUAL SPECIALIST | E2: ANALYST I
A3: ASSOCIATE PRINTING PLANT SUPERINTENDENT | C3: BEHAVIOR SPECIALIST | E3: ANALYST II
A4: BUSINESS SERVICE OFFICER I (SPECIALIST) | C4: BOOKBINDER II | E4: ANALYST III
A5: BUSINESS SERVICE OFFICER I (SUPERVISOR) | C5: BOOKBINDER III | E5: ANALYST IV
A6: BUSINESS SERVICE OFFICER II (SUPERVISOR) | C6: BOOKBINDER IV | E6: ASSOCIATE GOVERNMENTAL PROGRAM ANALYST
A7: BUSINESS SERVICE OFFICER III (SUPERVISOR) | C7: BUSINESS SERVICE ASSISTANT | E7: AUDIO VISUAL SPECIALIST
A8: COMPUTER OPERATIONS SUPERVISOR | C8: BUSINESS SERVICE OFFICER I (SPECIALIST) | E8: BEHAVIOR SPECIALIST I
A9: HOSPITAL GENERAL SERVICES ADMINISTRATOR 1 | C9: BUSINESS SERVICE OFFICER I (SUPERVISOR) | E9: BUSINESS SERVICE ASSISTANT
A10: HOSPITAL GENERAL SERVICES ADMINISTRATOR 2 | C10: BUSINESS SERVICE OFFICER II (SPECIALIST) | E10: BUSINESS SERVICE OFFICER I (SPECIALIST)
A11: INFORMATION OFFICER II | C11: BUSINESS SERVICE OFFICER II (SUPERVISOR) | E11: DIGITAL COMPOSITION SPECIALIST I
A12: INFORMATION TECHNOLOGY MANAGER I | C12: BUSINESS SERVICE OFFICER III | E12: DIGITAL COMPOSITION SPECIALIST II
... A27: STAFF SERVICES MANAGER II | C27: PRINTING TRADES ASSISTANT I | E27: WAREHOUSE WORKER
A28: STAFF SERVICES MANAGER III | C28: PRINTING TRADES ASSISTANT II
A29: SUPERVISOR I | C29: PRINTING TRADES PRODUCTION COORDINATOR
A30: SUPERVISOR II | C30: PRINTING TRADES SPECIALIST TRAINEE
C31: PRINTING TRADES SUPERVISOR I
C32: PRINTING TRADES SUPERVISOR II
C33: SENIOR PRINTING TRADES SPECIALIST
C34: SHEETFED OFFSET PRESS OPERATOR I
C35: SHEETFED OFFSET PRESS OPERATOR II
C36: SHEETFED OFFSET PRESS OPERATOR III
C37: SHEETFED OFFSET PRESS OPERATOR IV
C38: SHEETFED OFFSET PRESS OPERATOR V
C39: VOCATIONAL INSTRUCTOR
C40: WEBFED OFFSET PRESS OPERATOR I
C41: WEBFED OFFSET PRESS OPERATOR II
C42: WEBFED OFFSET PRESS OPERATOR III
C43: WEBFED OFFSET PRESS OPERATOR IV
