Workbook

Sheet Instructions
B2: Fleet Storage and EVSE Plan Worksheet Instructions | RDA2: $Mart1
B3: 1 | C3: Ensure all portions of the "Fleet Storage and EVSE Plan Worksheet" (FSEP) are complete.
B4: 2 | C4: Ensure all portions of the "Fleet Storage and EVSE Plan Certification" Form are complete.
B5: 3 | C5: Select all data in the submitted worksheet and paste it into the "FSEP Worksheet."
B6: 4 | C6: Navigate to the "EVSE Analysis" tab and complete all yellow highligted cells with information from the submitted certification Form.
B7: 5 | C7: Observe the results from "Assets Needing Additional Validations" table.
B8: 6 | C8: If assets need additional Validations, please send this workbook to | G8: FamsSupport@dgs.ca.gov | H8: for verification and validation.
B9: 7 | C9: If assets do not need additional validations, continue processing certification.
B10: 8 | C10: Refer to "Table Used to Complete Certification" on "EVSE Analysis" tab to complete FSEP Certification Form.
B11: 9 | C11: Save the workbook in accordance with data retention policies.
B12: 10 | C12: Any questions regarding this form can be sent to | D12: FleetReports@dg.ca.gov.

Sheet FSEP Worksheet
B2: Supplemental Worksheet to be used with the Fleet Asset EVSE Plan Certification
B3: Assets which do not meet yearly utilitzation thresholds may be reviewed by DGS OFAM for oversight and accuracy purposes
B5: Vehicle Roster
B6: ONLY IDENTIFY VEHICLES INTENDED TO BE DOMICILED AT PROPOSED LOCATION
K7: Miles Traveled in last 24 months
B8: # | C8: EQUIPMENT NUMBER | D8: Model Year | E8: MAKE | F8: MODEL | G8: Vehicle Type Category | H8: Weight Class | I8: VEHICLE CATEGORY (EMISSIONS) | J8: Current Odometer Reading | K8: Miles Traveled in First 12 Months | L8: Miles Traveled in Second 12 Months | M8: MEETS CRITERIA FOR PUBLIC SAFETY SPECIAL PERFORMANCE (SAM SECTION 4121.4) | N8: Error Checker
B9: 1 | N9: {=IF(COUNTBLANK(C9:F9)>=3,"",IF(AND(G9<>{"Pickup","Sedan","SUV","Truck","Van-Cargo","Van-Minivan","Van-Passenger"}),"Vehicle Type Category invalid",IF(AND(H9<>{"Light Duty","Medium Duty","Heavy Duty"}),"Weight Class invalid",IF(AND(I9<>{"Battery Electric (BEV)","Fuel Cell (FCV)","Plug-in Hybrid (PHEV)","Hybrid-Electric (HYBRID)","Internal Combustion (ICE)"}),"Vehicle Category Emissions invalid",IF(COUNTBLANK(J9:L9)>=1,"Usage Missing",IF(ISBLANK(M9), "PSSP invalid","Valid"))))))}
B10: 2 | N10: {=IF(COUNTBLANK(C10:F10)>=3,"",IF(AND(G10<>{"Pickup","Sedan","SUV","Truck","Van-Cargo","Van-Minivan","Van-Passenger"}),"Vehicle Type Category invalid",IF(AND(H10<>{"Light Duty","Medium Duty","Heavy Duty"}),"Weight Class invalid",IF(AND(I10<>{"Battery Electric (BEV)","Fuel Cell (FCV)","Plug-in Hybrid (PHEV)","Hybrid-Electric (HYBRID)","Internal Combustion (ICE)"}),"Vehicle Category Emissions invalid",IF(COUNTBLANK(J10:L10)>=1,"Usage Missing",IF(ISBLANK(M10), "PSSP invalid","Valid"))))))}
B11: 3 | N11: {=IF(COUNTBLANK(C11:F11)>=3,"",IF(AND(G11<>{"Pickup","Sedan","SUV","Truck","Van-Cargo","Van-Minivan","Van-Passenger"}),"Vehicle Type Category invalid",IF(AND(H11<>{"Light Duty","Medium Duty","Heavy Duty"}),"Weight Class invalid",IF(AND(I11<>{"Battery Electric (BEV)","Fuel Cell (FCV)","Plug-in Hybrid (PHEV)","Hybrid-Electric (HYBRID)","Internal Combustion (ICE)"}),"Vehicle Category Emissions invalid",IF(COUNTBLANK(J11:L11)>=1,"Usage Missing",IF(ISBLANK(M11), "PSSP invalid","Valid"))))))}
B12: 4 | N12: {=IF(COUNTBLANK(C12:F12)>=3,"",IF(AND(G12<>{"Pickup","Sedan","SUV","Truck","Van-Cargo","Van-Minivan","Van-Passenger"}),"Vehicle Type Category invalid",IF(AND(H12<>{"Light Duty","Medium Duty","Heavy Duty"}),"Weight Class invalid",IF(AND(I12<>{"Battery Electric (BEV)","Fuel Cell (FCV)","Plug-in Hybrid (PHEV)","Hybrid-Electric (HYBRID)","Internal Combustion (ICE)"}),"Vehicle Category Emissions invalid",IF(COUNTBLANK(J12:L12)>=1,"Usage Missing",IF(ISBLANK(M12), "PSSP invalid","Valid"))))))}
B13: 5 | N13: {=IF(COUNTBLANK(C13:F13)>=3,"",IF(AND(G13<>{"Pickup","Sedan","SUV","Truck","Van-Cargo","Van-Minivan","Van-Passenger"}),"Vehicle Type Category invalid",IF(AND(H13<>{"Light Duty","Medium Duty","Heavy Duty"}),"Weight Class invalid",IF(AND(I13<>{"Battery Electric (BEV)","Fuel Cell (FCV)","Plug-in Hybrid (PHEV)","Hybrid-Electric (HYBRID)","Internal Combustion (ICE)"}),"Vehicle Category Emissions invalid",IF(COUNTBLANK(J13:L13)>=1,"Usage Missing",IF(ISBLANK(M13), "PSSP invalid","Valid"))))))}
B14: 6 | N14: {=IF(COUNTBLANK(C14:F14)>=3,"",IF(AND(G14<>{"Pickup","Sedan","SUV","Truck","Van-Cargo","Van-Minivan","Van-Passenger"}),"Vehicle Type Category invalid",IF(AND(H14<>{"Light Duty","Medium Duty","Heavy Duty"}),"Weight Class invalid",IF(AND(I14<>{"Battery Electric (BEV)","Fuel Cell (FCV)","Plug-in Hybrid (PHEV)","Hybrid-Electric (HYBRID)","Internal Combustion (ICE)"}),"Vehicle Category Emissions invalid",IF(COUNTBLANK(J14:L14)>=1,"Usage Missing",IF(ISBLANK(M14), "PSSP invalid","Valid"))))))}
B15: 7 | N15: {=IF(COUNTBLANK(C15:F15)>=3,"",IF(AND(G15<>{"Pickup","Sedan","SUV","Truck","Van-Cargo","Van-Minivan","Van-Passenger"}),"Vehicle Type Category invalid",IF(AND(H15<>{"Light Duty","Medium Duty","Heavy Duty"}),"Weight Class invalid",IF(AND(I15<>{"Battery Electric (BEV)","Fuel Cell (FCV)","Plug-in Hybrid (PHEV)","Hybrid-Electric (HYBRID)","Internal Combustion (ICE)"}),"Vehicle Category Emissions invalid",IF(COUNTBLANK(J15:L15)>=1,"Usage Missing",IF(ISBLANK(M15), "PSSP invalid","Valid"))))))}
B16: 8 | N16: {=IF(COUNTBLANK(C16:F16)>=3,"",IF(AND(G16<>{"Pickup","Sedan","SUV","Truck","Van-Cargo","Van-Minivan","Van-Passenger"}),"Vehicle Type Category invalid",IF(AND(H16<>{"Light Duty","Medium Duty","Heavy Duty"}),"Weight Class invalid",IF(AND(I16<>{"Battery Electric (BEV)","Fuel Cell (FCV)","Plug-in Hybrid (PHEV)","Hybrid-Electric (HYBRID)","Internal Combustion (ICE)"}),"Vehicle Category Emissions invalid",IF(COUNTBLANK(J16:L16)>=1,"Usage Missing",IF(ISBLANK(M16), "PSSP invalid","Valid"))))))}
B17: 9 | N17: {=IF(COUNTBLANK(C17:F17)>=3,"",IF(AND(G17<>{"Pickup","Sedan","SUV","Truck","Van-Cargo","Van-Minivan","Van-Passenger"}),"Vehicle Type Category invalid",IF(AND(H17<>{"Light Duty","Medium Duty","Heavy Duty"}),"Weight Class invalid",IF(AND(I17<>{"Battery Electric (BEV)","Fuel Cell (FCV)","Plug-in Hybrid (PHEV)","Hybrid-Electric (HYBRID)","Internal Combustion (ICE)"}),"Vehicle Category Emissions invalid",IF(COUNTBLANK(J17:L17)>=1,"Usage Missing",IF(ISBLANK(M17), "PSSP invalid","Valid"))))))}
B18: 10 | N18: {=IF(COUNTBLANK(C18:F18)>=3,"",IF(AND(G18<>{"Pickup","Sedan","SUV","Truck","Van-Cargo","Van-Minivan","Van-Passenger"}),"Vehicle Type Category invalid",IF(AND(H18<>{"Light Duty","Medium Duty","Heavy Duty"}),"Weight Class invalid",IF(AND(I18<>{"Battery Electric (BEV)","Fuel Cell (FCV)","Plug-in Hybrid (PHEV)","Hybrid-Electric (HYBRID)","Internal Combustion (ICE)"}),"Vehicle Category Emissions invalid",IF(COUNTBLANK(J18:L18)>=1,"Usage Missing",IF(ISBLANK(M18), "PSSP invalid","Valid"))))))}
B19: 11 | N19: {=IF(COUNTBLANK(C19:F19)>=3,"",IF(AND(G19<>{"Pickup","Sedan","SUV","Truck","Van-Cargo","Van-Minivan","Van-Passenger"}),"Vehicle Type Category invalid",IF(AND(H19<>{"Light Duty","Medium Duty","Heavy Duty"}),"Weight Class invalid",IF(AND(I19<>{"Battery Electric (BEV)","Fuel Cell (FCV)","Plug-in Hybrid (PHEV)","Hybrid-Electric (HYBRID)","Internal Combustion (ICE)"}),"Vehicle Category Emissions invalid",IF(COUNTBLANK(J19:L19)>=1,"Usage Missing",IF(ISBLANK(M19), "PSSP invalid","Valid"))))))}
B20: 12 | N20: {=IF(COUNTBLANK(C20:F20)>=3,"",IF(AND(G20<>{"Pickup","Sedan","SUV","Truck","Van-Cargo","Van-Minivan","Van-Passenger"}),"Vehicle Type Category invalid",IF(AND(H20<>{"Light Duty","Medium Duty","Heavy Duty"}),"Weight Class invalid",IF(AND(I20<>{"Battery Electric (BEV)","Fuel Cell (FCV)","Plug-in Hybrid (PHEV)","Hybrid-Electric (HYBRID)","Internal Combustion (ICE)"}),"Vehicle Category Emissions invalid",IF(COUNTBLANK(J20:L20)>=1,"Usage Missing",IF(ISBLANK(M20), "PSSP invalid","Valid"))))))}
... B108: 100 | N108: {=IF(COUNTBLANK(C108:F108)>=3,"",IF(AND(G108<>{"Pickup","Sedan","SUV","Truck","Van-Cargo","Van-Minivan","Van-Passenger"}),"Vehicle Type Category invalid",IF(AND(H108<>{"Light Duty","Medium Duty","Heavy Duty"}),"Weight Class invalid",IF(AND(I108<>{"Battery Electric (BEV)","Fuel Cell (FCV)","Plug-in Hybrid (PHEV)","Hybrid-Electric (HYBRID)","Internal Combustion (ICE)"}),"Vehicle Category Emissions invalid",IF(COUNTBLANK(J108:L108)>=1,"Usage Missing",IF(ISBLANK(M108), "PSSP invalid","Valid"))))))}

Sheet EVSE Analysis
I1: V24.11.20 | AG1: Model Year | AH1: Median Range | AI1: Max Range
B2: =IF(COUNTBLANK(F6:F8)+COUNTBLANK(G24)>0,"ERROR: Please manually input/confirm data in all yellow highlighted cells","") | I2: Assets Needing Additional Validations (First 10) | AG2: 2011 | AH2: 68 | AI2: 94 | RDA2: $Mart1
I3: Equipment Number | J3: Year, Make, Model | L3: Average Yearly Miles Traveled | M3: Utilization Threshold | AG3: 2012 | AH3: 76 | AI3: 265 | AO3: =F8+(F6*365) -> 46327
I4: {=IF(COUNTA('FSEP Worksheet'!$C$9:$C$1320)=0,"No Assets Found",IF($R$31=0,"No needed validations",IF($R$31<10,_xlfn._xlws.SORT(_xlfn._xlws.FILTER($C$33:$C$1048576,($C$33:$C$1048576<>"")*($Q$33:$Q$1048576="Additional Verification Needed"))),INDEX(_xlfn._xlws.SORT(_xlfn._xlws.FILTER($C$33:$C$1048576,($C$33:$C$1048576<>"")*($Q$33:$Q$1048576="Additional Verification Needed"))),_xlfn.SEQUENCE(10,1,1,1)))))} -> No Assets Found | J4: {=IF(I4="","",IF(OR(I4={"No needed Validations","No Assets Found"}),"",_xlfn.TEXTJOIN(" ",TRUE,_xlfn.XLOOKUP(I4,$C$33:$C$1048576,$D$33:$D$1048576&" "&$E$33:$E$1048576),_xlfn.XLOOKUP(I4,$C$33:$C$1048576,$F$33:$F$1048576))))} | L4: {=IF(I4="","",IF(OR(I4={"No needed Validations";"No Assets Found"}),"",_xlfn.XLOOKUP(I4,$C$33:$C$133,$X$33:$X$133)*12))} | M4: {=IF(I4="","",IF(OR(I4={"No needed Validations","No Assets Found"}),"",_xlfn.XLOOKUP(I4,$C$33:$C$1048576,$R$33:$R$1048576)))} | AG4: 2013 | AH4: 82 | AI4: 265 | AO4: =YEAR(AO3) -> 2026
B5: Please input the following information from the FSEP Form | J5: {=IF(I5="","",IF(I5="No needed Validations","",_xlfn.TEXTJOIN(" ",TRUE,_xlfn.XLOOKUP(I5,$C$33:$C$1048576,$D$33:$D$1048576&" "&$E$33:$E$1048576),_xlfn.XLOOKUP(I5,$C$33:$C$1048576,$F$33:$F$1048576))))} | L5: =IF(I5="","",IF(I5="No needed Validations","",_xlfn.XLOOKUP(I5,$C$33:$C$133,$X$33:$X$133)*12)) | M5: =IF(I5="","",IF(I5="No needed Validations","",_xlfn.XLOOKUP(I5,$C$33:$C$1048576,$R$33:$R$1048576))) | AG5: 2014 | AH5: 84 | AI5: 265
B6: Anticipated Firm Lease Term | F6: 1 | G6: Years | J6: {=IF(I6="","",IF(I6="No needed Validations","",_xlfn.TEXTJOIN(" ",TRUE,_xlfn.XLOOKUP(I6,$C$33:$C$1048576,$D$33:$D$1048576&" "&$E$33:$E$1048576),_xlfn.XLOOKUP(I6,$C$33:$C$1048576,$F$33:$F$1048576))))} | L6: =IF(I6="","",IF(I6="No needed Validations","",_xlfn.XLOOKUP(I6,$C$33:$C$133,$X$33:$X$133)*12)) | M6: =IF(I6="","",IF(I6="No needed Validations","",_xlfn.XLOOKUP(I6,$C$33:$C$1048576,$R$33:$R$1048576))) | AG6: 2015 | AH6: 90 | AI6: 270
F7: 0 | G7: Months | J7: {=IF(I7="","",IF(I7="No needed Validations","",_xlfn.TEXTJOIN(" ",TRUE,_xlfn.XLOOKUP(I7,$C$33:$C$1048576,$D$33:$D$1048576&" "&$E$33:$E$1048576),_xlfn.XLOOKUP(I7,$C$33:$C$1048576,$F$33:$F$1048576))))} | L7: =IF(I7="","",IF(I7="No needed Validations","",_xlfn.XLOOKUP(I7,$C$33:$C$133,$X$33:$X$133)*12)) | M7: =IF(I7="","",IF(I7="No needed Validations","",_xlfn.XLOOKUP(I7,$C$33:$C$1048576,$R$33:$R$1048576))) | AG7: 2016 | AH7: 218 | AI7: 315
B8: Anticipated Lease Start Date (mm/dd/yyyy) | F8: 45962 | J8: {=IF(I8="","",IF(I8="No needed Validations","",_xlfn.TEXTJOIN(" ",TRUE,_xlfn.XLOOKUP(I8,$C$33:$C$1048576,$D$33:$D$1048576&" "&$E$33:$E$1048576),_xlfn.XLOOKUP(I8,$C$33:$C$1048576,$F$33:$F$1048576))))} | L8: =IF(I8="","",IF(I8="No needed Validations","",_xlfn.XLOOKUP(I8,$C$33:$C$133,$X$33:$X$133)*12)) | M8: =IF(I8="","",IF(I8="No needed Validations","",_xlfn.XLOOKUP(I8,$C$33:$C$1048576,$R$33:$R$1048576))) | AG8: 2017 | AH8: 194 | AI8: 335
J9: {=IF(I9="","",IF(I9="No needed Validations","",_xlfn.TEXTJOIN(" ",TRUE,_xlfn.XLOOKUP(I9,$C$33:$C$1048576,$D$33:$D$1048576&" "&$E$33:$E$1048576),_xlfn.XLOOKUP(I9,$C$33:$C$1048576,$F$33:$F$1048576))))} | L9: =IF(I9="","",IF(I9="No needed Validations","",_xlfn.XLOOKUP(I9,$C$33:$C$133,$X$33:$X$133)*12)) | M9: =IF(I9="","",IF(I9="No needed Validations","",_xlfn.XLOOKUP(I9,$C$33:$C$1048576,$R$33:$R$1048576))) | AG9: 2018 | AH9: 213 | AI9: 335
B10: This Should Match SECTION 3 on Department Submitted FSEP Form | J10: {=IF(I10="","",IF(I10="No needed Validations","",_xlfn.TEXTJOIN(" ",TRUE,_xlfn.XLOOKUP(I10,$C$33:$C$1048576,$D$33:$D$1048576&" "&$E$33:$E$1048576),_xlfn.XLOOKUP(I10,$C$33:$C$1048576,$F$33:$F$1048576))))} | L10: =IF(I10="","",IF(I10="No needed Validations","",_xlfn.XLOOKUP(I10,$C$33:$C$133,$X$33:$X$133)*12)) | M10: =IF(I10="","",IF(I10="No needed Validations","",_xlfn.XLOOKUP(I10,$C$33:$C$1048576,$R$33:$R$1048576))) | AG10: 2019 | AH10: 239 | AI10: 370
B11: Total number of vehicles to be domiciled at proposed lease location: | G11: =COUNTA('FSEP Worksheet'!C9:C1048576) -> 0 | J11: {=IF(I11="","",IF(I11="No needed Validations","",_xlfn.TEXTJOIN(" ",TRUE,_xlfn.XLOOKUP(I11,$C$33:$C$1048576,$D$33:$D$1048576&" "&$E$33:$E$1048576),_xlfn.XLOOKUP(I11,$C$33:$C$1048576,$F$33:$F$1048576))))} | L11: =IF(I11="","",IF(I11="No needed Validations","",_xlfn.XLOOKUP(I11,$C$33:$C$133,$X$33:$X$133)*12)) | M11: =IF(I11="","",IF(I11="No needed Validations","",_xlfn.XLOOKUP(I11,$C$33:$C$1048576,$R$33:$R$1048576))) | AG11: 2020 | AH11: 259 | AI11: 402
B12: Number of battery electric vehicles (BEVs): | G12: =COUNTIF(I33:I51021,"Battery Electric (BEV)") -> 0 | J12: {=IF(I12="","",IF(I12="No needed Validations","",_xlfn.TEXTJOIN(" ",TRUE,_xlfn.XLOOKUP(I12,$C$33:$C$1048576,$D$33:$D$1048576&" "&$E$33:$E$1048576),_xlfn.XLOOKUP(I12,$C$33:$C$1048576,$F$33:$F$1048576))))} | L12: =IF(I12="","",IF(I12="No needed Validations","",_xlfn.XLOOKUP(I12,$C$33:$C$133,$X$33:$X$133)*12)) | M12: =IF(I12="","",IF(I12="No needed Validations","",_xlfn.XLOOKUP(I12,$C$33:$C$1048576,$R$33:$R$1048576))) | AG12: 2021 | AH12: 262 | AI12: 412
B13: Number of plug-in hybrid electric vehicles (PHEVs): | G13: =COUNTIF(I33:I51021,"Plug-in Hybrid (PHEV)") -> 0 | AG13: 2022 | AH13: 286 | AI13: 520
B14: Number of internal combustion engine vehicles (ICEs including Hybrids): | G14: =COUNTIF(I33:I51021,"internal Combustion (ICE)")+COUNTIF(I33:I51021,"Hybrid-Electric (HYBRID)") -> 0 | AG14: 2023
B15: Number of public safety special performance (PSSP) vehicles: | G15: =COUNTIF('FSEP Worksheet'!M9:M1048576,"Yes") -> 0
B17: Table Used to Complete Certification | I17: Special Note
B18: #1 | C18: Current number of EVs (BEV or PHEV) to be domiciled at the proposed location: | G18: =SUM(G13,G12) -> 0 | I18: This analysis assumes Internal Combustion Engine (ICE) vehicles that are not public safety/special performance (PSSP) will be replaced with a ZEV vehicle in the year the replacement threshold is met.
B20: #2 | C20: Number of vehicles projected to meet replacement schedule during the firm term of lease: | G20: =COUNTIF($P$33:$P$1048576,"Additional ZEV") -> 0
B22: #3 | C22: Number of PSSP vehicles: | G22: =G15 -> 0
B23: #4 | C23: Number of PHEV EVSE ports required (PHEV assumes a 1:4 ratio): | G23: =ROUNDUP((G13*'Replacement Schedule'!M28),0) -> 0
B24: #4.1 | C24: Total number of BEV vehicles (including replacements): | G24: =SUM(G12+G20) -> 0 | H24: =G24*'Replacement Schedule'!M29+G23 -> 0
B25: #5 | C25: Number of existing EV charging ports at proposed location: | G25: 0
B26: #6 | C26: Recommended EVSE to BEV Ratio: | G26: 1:2
B27: #7 | C27: Additional EV charging ports needed at proposed location: | G27: =IF(G25>H24,0,ROUNDUP(H24-G25,0)) -> 0
B30: Vehicle Roster | N30: Results | R30: Analysis
B31: # | C31: EQUIPMENT NUMBER | D31: Model Year | E31: MAKE | F31: MODEL | G31: Vehicle Type Category | H31: Weight Class | I31: VEHICLE CATEGORY (EMISSIONS) | J31: Current Odometer Reading | K31: Total Miles Traveled in last 24 months | M31: MEET CRITERIA OF PUBLIC SAFETY SPECIAL PERFORMANCE (SAM SECTION 4121.4) | N31: Anticipated Month/Year of Replacement | O31: Is Replacement Anticipated within Lease Firm Date | P31: Additional ZEV (original non-EV and non-PSSP) | Q31: Additional Verification Needed by DGS OFAM | R31: {=COUNTA(_xlfn._xlws.SORT(_xlfn._xlws.FILTER($C$33:$C$1048576,($C$33:$C$1048576<>"")*($Q$33:$Q$1048576="Additional Verification Needed"))))} -> 1
K32: Total Miles Traveled in First 12 Months | L32: Total Miles Travel in Second 12 Months | O32: Is Replacement Anticipated within Lease Firm Date | P32: Additional ZEV (original non-EV and non-PSSP) | R32: Utilization Threshold for additional verification | S32: Lease Start | T32: Firm Term Lease End (min) | U32: Age of replacement eligibility in Years | V32: Current Age | W32: Year Age Threshold Met | X32: Average Miles/Month | Y32: Mileage Threshold | Z32: Miles left to travel | AA32: Month/Year Mileage Threshold Met | AB32: First Threshold Anticipated | AC32: AVG Range of EV/ Model Year
B33: 1 | C33: =IF('FSEP Worksheet'!C9="","",'FSEP Worksheet'!C9) | D33: =IF('FSEP Worksheet'!D9="","",'FSEP Worksheet'!D9) | E33: =IF('FSEP Worksheet'!E9="","",'FSEP Worksheet'!E9) | F33: =IF('FSEP Worksheet'!F9="","",'FSEP Worksheet'!F9) | G33: =IF('FSEP Worksheet'!G9="","",'FSEP Worksheet'!G9) | H33: =IF('FSEP Worksheet'!H9="","",'FSEP Worksheet'!H9) | I33: =IF('FSEP Worksheet'!I9="","",'FSEP Worksheet'!I9) | J33: =IF('FSEP Worksheet'!J9="","",'FSEP Worksheet'!J9) | ... M33: =IF('FSEP Worksheet'!M9="","",'FSEP Worksheet'!M9) | N33: =IF(AA33="","",TEXT(MIN(VALUE(AA33),VALUE(W33)),"mm/yyyy")) | O33: =IFERROR(IF(T33="","",IF(VALUE(N33)<VALUE(T33),"Replacement Anticipated","No Replacement")),"Confirm Yellow Cells above") | P33: {=IF(O33="","",IF(O33="confirm yellow cells above","More info needed",IF(AND(O33="Replacement Anticipated",OR(I33={"Hybrid-Electric (HYBRID)","Internal Combustion (ICE)"}),M33="No"),"Additional ZEV","No Change in ZEV Count")))} | Q33: {=IF(G33="","",IF(AVERAGE(K33:L33)<IF(M33="YES",_xlfn.XLOOKUP(G33&"PSSP",'Replacement Schedule'!$C$23:$C$44&'Replacement Schedule'!$D$23:$D$44,'Replacement Schedule'!$E$23:$E$44),_xlfn.XLOOKUP(G33&H33,'Replacement Schedule'!$C$23:$C$44&'Replacement Schedule'!$D$23:$D$44,'Replacement Schedule'!$E$23:$E$44)),"Additional Verification Needed","Passes Validation"))} | R33: {=IF(G33="","",IF(M33="YES",_xlfn.XLOOKUP(G33&"PSSP",'Replacement Schedule'!$C$23:$C$44&'Replacement Schedule'!$D$23:$D$44,'Replacement Schedule'!$E$23:$E$44),_xlfn.XLOOKUP(G33&H33,'Replacement Schedule'!$C$23:$C$44&'Replacement Schedule'!$D$23:$D$44,'Replacement Schedule'!$E$23:$E$44)))} | S33: =IF(C33="","",IF($F$8="","Need Lease Start",TEXT($F$8,"mm/yyyy"))) | T33: =IF(C33="","",TEXT(EDATE(S33,($F$6*12)+$F$7),"mm/yyyy")) | U33: {=IF(C33="","",IF(M33="yes", _xlfn.XLOOKUP("Law Enforcement",'Replacement Schedule'!$D$3:$D$20,'Replacement Schedule'!$F$3:$F$20),_xlfn.XLOOKUP(G33&H33,'Replacement Schedule'!$D$3:$D$20&'Replacement Schedule'!$H$3:$H$20,'Replacement Schedule'!$F$3:$F$20)))} | V33: =IF(D33="","",YEAR(NOW())-D33) | W33: =IF(U33="","",TEXT(EDATE(DATE(YEAR(NOW()),1,1),(U33*12-V33*12)),"mm/yyyy")) | X33: =IF(C33="","",ROUNDUP(AVERAGE(K33,L33)/12,0)) | Y33: {=IF(C33="","",_xlfn.XLOOKUP(G33&H33,'Replacement Schedule'!$D$3:$D$20&'Replacement Schedule'!$H$3:$H$20,'Replacement Schedule'!$G$3:$G$20))} | Z33: =IF(Y33="","",Y33-J33) | AA33: =IF(Z33="","",TEXT(EDATE(NOW(),ROUND(Z33/X33,0)),"mm/yyyy")) | AB33: =IF(W33="","",IF(VALUE(AA33)>VALUE(W33),"Model Age Threshold","Mileage Threshold")) | AC33: =IF(I33="Internal Combustion (ICE)","ICE",IF($D33<2011,"Replace",VLOOKUP($D33,$AG$2:$AH$11,2))) -> #N/A
B34: 2 | C34: =IF('FSEP Worksheet'!C10="","",'FSEP Worksheet'!C10) | D34: =IF('FSEP Worksheet'!D10="","",'FSEP Worksheet'!D10) | E34: =IF('FSEP Worksheet'!E10="","",'FSEP Worksheet'!E10) | F34: =IF('FSEP Worksheet'!F10="","",'FSEP Worksheet'!F10) | G34: =IF('FSEP Worksheet'!G10="","",'FSEP Worksheet'!G10) | H34: =IF('FSEP Worksheet'!H10="","",'FSEP Worksheet'!H10) | I34: =IF('FSEP Worksheet'!I10="","",'FSEP Worksheet'!I10) | J34: =IF('FSEP Worksheet'!J10="","",'FSEP Worksheet'!J10) | ... M34: =IF('FSEP Worksheet'!M10="","",'FSEP Worksheet'!M10) | N34: =IF(AA34="","",TEXT(MIN(VALUE(AA34),VALUE(W34)),"mm/yyyy")) | O34: =IFERROR(IF(T34="","",IF(VALUE(N34)<VALUE(T34),"Replacement Anticipated","No Replacement")),"Confirm Yellow Cells above") | P34: {=IF(O34="","",IF(O34="confirm yellow cells above","More info needed",IF(AND(O34="Replacement Anticipated",OR(I34={"Hybrid-Electric (HYBRID)","Internal Combustion (ICE)"}),M34="No"),"Additional ZEV","No Change in ZEV Count")))} | Q34: {=IF(G34="","",IF(AVERAGE(K34:L34)<IF(M34="YES",_xlfn.XLOOKUP(G34&"PSSP",'Replacement Schedule'!$C$23:$C$44&'Replacement Schedule'!$D$23:$D$44,'Replacement Schedule'!$E$23:$E$44),_xlfn.XLOOKUP(G34&H34,'Replacement Schedule'!$C$23:$C$44&'Replacement Schedule'!$D$23:$D$44,'Replacement Schedule'!$E$23:$E$44)),"Additional Verification Needed","Passes Validation"))} | R34: {=IF(G34="","",IF(M34="YES",_xlfn.XLOOKUP(G34&"PSSP",'Replacement Schedule'!$C$23:$C$44&'Replacement Schedule'!$D$23:$D$44,'Replacement Schedule'!$E$23:$E$44),_xlfn.XLOOKUP(G34&H34,'Replacement Schedule'!$C$23:$C$44&'Replacement Schedule'!$D$23:$D$44,'Replacement Schedule'!$E$23:$E$44)))} | S34: =IF(C34="","",IF($F$8="","Need Lease Start",TEXT($F$8,"mm/yyyy"))) | T34: =IF(C34="","",TEXT(EDATE(S34,($F$6*12)+$F$7),"mm/yyyy")) | U34: {=IF(C34="","",IF(M34="yes", _xlfn.XLOOKUP("Law Enforcement",'Replacement Schedule'!$D$3:$D$20,'Replacement Schedule'!$F$3:$F$20),_xlfn.XLOOKUP(G34&H34,'Replacement Schedule'!$D$3:$D$20&'Replacement Schedule'!$H$3:$H$20,'Replacement Schedule'!$F$3:$F$20)))} | V34: =IF(D34="","",YEAR(NOW())-D34) | W34: =IF(U34="","",TEXT(EDATE(DATE(YEAR(NOW()),1,1),(U34*12-V34*12)),"mm/yyyy")) | X34: =IF(C34="","",ROUNDUP(AVERAGE(K34,L34)/12,0)) | Y34: {=IF(C34="","",_xlfn.XLOOKUP(G34&H34,'Replacement Schedule'!$D$3:$D$20&'Replacement Schedule'!$H$3:$H$20,'Replacement Schedule'!$G$3:$G$20))} | Z34: =IF(Y34="","",Y34-J34) | AA34: =IF(Z34="","",TEXT(EDATE(NOW(),ROUND(Z34/X34,0)),"mm/yyyy")) | AB34: =IF(W34="","",IF(VALUE(AA34)>VALUE(W34),"Model Age Threshold","Mileage Threshold")) | AC34: =IF(I34="Internal Combustion (ICE)","ICE",IF($D34<2011,"Replace",VLOOKUP($D34,$AG$2:$AH$11,2))) -> #N/A
B35: 3 | C35: =IF('FSEP Worksheet'!C11="","",'FSEP Worksheet'!C11) | D35: =IF('FSEP Worksheet'!D11="","",'FSEP Worksheet'!D11) | E35: =IF('FSEP Worksheet'!E11="","",'FSEP Worksheet'!E11) | F35: =IF('FSEP Worksheet'!F11="","",'FSEP Worksheet'!F11) | G35: =IF('FSEP Worksheet'!G11="","",'FSEP Worksheet'!G11) | H35: =IF('FSEP Worksheet'!H11="","",'FSEP Worksheet'!H11) | I35: =IF('FSEP Worksheet'!I11="","",'FSEP Worksheet'!I11) | J35: =IF('FSEP Worksheet'!J11="","",'FSEP Worksheet'!J11) | ... M35: =IF('FSEP Worksheet'!M11="","",'FSEP Worksheet'!M11) | N35: =IF(AA35="","",TEXT(MIN(VALUE(AA35),VALUE(W35)),"mm/yyyy")) | O35: =IFERROR(IF(T35="","",IF(VALUE(N35)<VALUE(T35),"Replacement Anticipated","No Replacement")),"Confirm Yellow Cells above") | P35: {=IF(O35="","",IF(O35="confirm yellow cells above","More info needed",IF(AND(O35="Replacement Anticipated",OR(I35={"Hybrid-Electric (HYBRID)","Internal Combustion (ICE)"}),M35="No"),"Additional ZEV","No Change in ZEV Count")))} | Q35: {=IF(G35="","",IF(AVERAGE(K35:L35)<IF(M35="YES",_xlfn.XLOOKUP(G35&"PSSP",'Replacement Schedule'!$C$23:$C$44&'Replacement Schedule'!$D$23:$D$44,'Replacement Schedule'!$E$23:$E$44),_xlfn.XLOOKUP(G35&H35,'Replacement Schedule'!$C$23:$C$44&'Replacement Schedule'!$D$23:$D$44,'Replacement Schedule'!$E$23:$E$44)),"Additional Verification Needed","Passes Validation"))} | R35: {=IF(G35="","",IF(M35="YES",_xlfn.XLOOKUP(G35&"PSSP",'Replacement Schedule'!$C$23:$C$44&'Replacement Schedule'!$D$23:$D$44,'Replacement Schedule'!$E$23:$E$44),_xlfn.XLOOKUP(G35&H35,'Replacement Schedule'!$C$23:$C$44&'Replacement Schedule'!$D$23:$D$44,'Replacement Schedule'!$E$23:$E$44)))} | S35: =IF(C35="","",IF($F$8="","Need Lease Start",TEXT($F$8,"mm/yyyy"))) | T35: =IF(C35="","",TEXT(EDATE(S35,($F$6*12)+$F$7),"mm/yyyy")) | U35: {=IF(C35="","",IF(M35="yes", _xlfn.XLOOKUP("Law Enforcement",'Replacement Schedule'!$D$3:$D$20,'Replacement Schedule'!$F$3:$F$20),_xlfn.XLOOKUP(G35&H35,'Replacement Schedule'!$D$3:$D$20&'Replacement Schedule'!$H$3:$H$20,'Replacement Schedule'!$F$3:$F$20)))} | V35: =IF(D35="","",YEAR(NOW())-D35) | W35: =IF(U35="","",TEXT(EDATE(DATE(YEAR(NOW()),1,1),(U35*12-V35*12)),"mm/yyyy")) | X35: =IF(C35="","",ROUNDUP(AVERAGE(K35,L35)/12,0)) | Y35: {=IF(C35="","",_xlfn.XLOOKUP(G35&H35,'Replacement Schedule'!$D$3:$D$20&'Replacement Schedule'!$H$3:$H$20,'Replacement Schedule'!$G$3:$G$20))} | Z35: =IF(Y35="","",Y35-J35) | AA35: =IF(Z35="","",TEXT(EDATE(NOW(),ROUND(Z35/X35,0)),"mm/yyyy")) | AB35: =IF(W35="","",IF(VALUE(AA35)>VALUE(W35),"Model Age Threshold","Mileage Threshold")) | AC35: =IF(I35="Internal Combustion (ICE)","ICE",IF($D35<2011,"Replace",VLOOKUP($D35,$AG$2:$AH$11,2))) -> #N/A
B36: 4 | C36: =IF('FSEP Worksheet'!C12="","",'FSEP Worksheet'!C12) | D36: =IF('FSEP Worksheet'!D12="","",'FSEP Worksheet'!D12) | E36: =IF('FSEP Worksheet'!E12="","",'FSEP Worksheet'!E12) | F36: =IF('FSEP Worksheet'!F12="","",'FSEP Worksheet'!F12) | G36: =IF('FSEP Worksheet'!G12="","",'FSEP Worksheet'!G12) | H36: =IF('FSEP Worksheet'!H12="","",'FSEP Worksheet'!H12) | I36: =IF('FSEP Worksheet'!I12="","",'FSEP Worksheet'!I12) | J36: =IF('FSEP Worksheet'!J12="","",'FSEP Worksheet'!J12) | ... M36: =IF('FSEP Worksheet'!M12="","",'FSEP Worksheet'!M12) | N36: =IF(AA36="","",TEXT(MIN(VALUE(AA36),VALUE(W36)),"mm/yyyy")) | O36: =IFERROR(IF(T36="","",IF(VALUE(N36)<VALUE(T36),"Replacement Anticipated","No Replacement")),"Confirm Yellow Cells above") | P36: {=IF(O36="","",IF(O36="confirm yellow cells above","More info needed",IF(AND(O36="Replacement Anticipated",OR(I36={"Hybrid-Electric (HYBRID)","Internal Combustion (ICE)"}),M36="No"),"Additional ZEV","No Change in ZEV Count")))} | Q36: {=IF(G36="","",IF(AVERAGE(K36:L36)<IF(M36="YES",_xlfn.XLOOKUP(G36&"PSSP",'Replacement Schedule'!$C$23:$C$44&'Replacement Schedule'!$D$23:$D$44,'Replacement Schedule'!$E$23:$E$44),_xlfn.XLOOKUP(G36&H36,'Replacement Schedule'!$C$23:$C$44&'Replacement Schedule'!$D$23:$D$44,'Replacement Schedule'!$E$23:$E$44)),"Additional Verification Needed","Passes Validation"))} | R36: {=IF(G36="","",IF(M36="YES",_xlfn.XLOOKUP(G36&"PSSP",'Replacement Schedule'!$C$23:$C$44&'Replacement Schedule'!$D$23:$D$44,'Replacement Schedule'!$E$23:$E$44),_xlfn.XLOOKUP(G36&H36,'Replacement Schedule'!$C$23:$C$44&'Replacement Schedule'!$D$23:$D$44,'Replacement Schedule'!$E$23:$E$44)))} | S36: =IF(C36="","",IF($F$8="","Need Lease Start",TEXT($F$8,"mm/yyyy"))) | T36: =IF(C36="","",TEXT(EDATE(S36,($F$6*12)+$F$7),"mm/yyyy")) | U36: {=IF(C36="","",IF(M36="yes", _xlfn.XLOOKUP("Law Enforcement",'Replacement Schedule'!$D$3:$D$20,'Replacement Schedule'!$F$3:$F$20),_xlfn.XLOOKUP(G36&H36,'Replacement Schedule'!$D$3:$D$20&'Replacement Schedule'!$H$3:$H$20,'Replacement Schedule'!$F$3:$F$20)))} | V36: =IF(D36="","",YEAR(NOW())-D36) | W36: =IF(U36="","",TEXT(EDATE(DATE(YEAR(NOW()),1,1),(U36*12-V36*12)),"mm/yyyy")) | X36: =IF(C36="","",ROUNDUP(AVERAGE(K36,L36)/12,0)) | Y36: {=IF(C36="","",_xlfn.XLOOKUP(G36&H36,'Replacement Schedule'!$D$3:$D$20&'Replacement Schedule'!$H$3:$H$20,'Replacement Schedule'!$G$3:$G$20))} | Z36: =IF(Y36="","",Y36-J36) | AA36: =IF(Z36="","",TEXT(EDATE(NOW(),ROUND(Z36/X36,0)),"mm/yyyy")) | AB36: =IF(W36="","",IF(VALUE(AA36)>VALUE(W36),"Model Age Threshold","Mileage Threshold")) | AC36: =IF(I36="Internal Combustion (ICE)","ICE",IF($D36<2011,"Replace",VLOOKUP($D36,$AG$2:$AH$11,2))) -> #N/A
B37: 5 | C37: =IF('FSEP Worksheet'!C13="","",'FSEP Worksheet'!C13) | D37: =IF('FSEP Worksheet'!D13="","",'FSEP Worksheet'!D13) | E37: =IF('FSEP Worksheet'!E13="","",'FSEP Worksheet'!E13) | F37: =IF('FSEP Worksheet'!F13="","",'FSEP Worksheet'!F13) | G37: =IF('FSEP Worksheet'!G13="","",'FSEP Worksheet'!G13) | H37: =IF('FSEP Worksheet'!H13="","",'FSEP Worksheet'!H13) | I37: =IF('FSEP Worksheet'!I13="","",'FSEP Worksheet'!I13) | J37: =IF('FSEP Worksheet'!J13="","",'FSEP Worksheet'!J13) | ... M37: =IF('FSEP Worksheet'!M13="","",'FSEP Worksheet'!M13) | N37: =IF(AA37="","",TEXT(MIN(VALUE(AA37),VALUE(W37)),"mm/yyyy")) | O37: =IFERROR(IF(T37="","",IF(VALUE(N37)<VALUE(T37),"Replacement Anticipated","No Replacement")),"Confirm Yellow Cells above") | P37: {=IF(O37="","",IF(O37="confirm yellow cells above","More info needed",IF(AND(O37="Replacement Anticipated",OR(I37={"Hybrid-Electric (HYBRID)","Internal Combustion (ICE)"}),M37="No"),"Additional ZEV","No Change in ZEV Count")))} | Q37: {=IF(G37="","",IF(AVERAGE(K37:L37)<IF(M37="YES",_xlfn.XLOOKUP(G37&"PSSP",'Replacement Schedule'!$C$23:$C$44&'Replacement Schedule'!$D$23:$D$44,'Replacement Schedule'!$E$23:$E$44),_xlfn.XLOOKUP(G37&H37,'Replacement Schedule'!$C$23:$C$44&'Replacement Schedule'!$D$23:$D$44,'Replacement Schedule'!$E$23:$E$44)),"Additional Verification Needed","Passes Validation"))} | R37: {=IF(G37="","",IF(M37="YES",_xlfn.XLOOKUP(G37&"PSSP",'Replacement Schedule'!$C$23:$C$44&'Replacement Schedule'!$D$23:$D$44,'Replacement Schedule'!$E$23:$E$44),_xlfn.XLOOKUP(G37&H37,'Replacement Schedule'!$C$23:$C$44&'Replacement Schedule'!$D$23:$D$44,'Replacement Schedule'!$E$23:$E$44)))} | S37: =IF(C37="","",IF($F$8="","Need Lease Start",TEXT($F$8,"mm/yyyy"))) | T37: =IF(C37="","",TEXT(EDATE(S37,($F$6*12)+$F$7),"mm/yyyy")) | U37: {=IF(C37="","",IF(M37="yes", _xlfn.XLOOKUP("Law Enforcement",'Replacement Schedule'!$D$3:$D$20,'Replacement Schedule'!$F$3:$F$20),_xlfn.XLOOKUP(G37&H37,'Replacement Schedule'!$D$3:$D$20&'Replacement Schedule'!$H$3:$H$20,'Replacement Schedule'!$F$3:$F$20)))} | V37: =IF(D37="","",YEAR(NOW())-D37) | W37: =IF(U37="","",TEXT(EDATE(DATE(YEAR(NOW()),1,1),(U37*12-V37*12)),"mm/yyyy")) | X37: =IF(C37="","",ROUNDUP(AVERAGE(K37,L37)/12,0)) | Y37: {=IF(C37="","",_xlfn.XLOOKUP(G37&H37,'Replacement Schedule'!$D$3:$D$20&'Replacement Schedule'!$H$3:$H$20,'Replacement Schedule'!$G$3:$G$20))} | Z37: =IF(Y37="","",Y37-J37) | AA37: =IF(Z37="","",TEXT(EDATE(NOW(),ROUND(Z37/X37,0)),"mm/yyyy")) | AB37: =IF(W37="","",IF(VALUE(AA37)>VALUE(W37),"Model Age Threshold","Mileage Threshold")) | AC37: =IF(I37="Internal Combustion (ICE)","ICE",IF($D37<2011,"Replace",VLOOKUP($D37,$AG$2:$AH$11,2))) -> #N/A
B38: 6 | C38: =IF('FSEP Worksheet'!C14="","",'FSEP Worksheet'!C14) | D38: =IF('FSEP Worksheet'!D14="","",'FSEP Worksheet'!D14) | E38: =IF('FSEP Worksheet'!E14="","",'FSEP Worksheet'!E14) | F38: =IF('FSEP Worksheet'!F14="","",'FSEP Worksheet'!F14) | G38: =IF('FSEP Worksheet'!G14="","",'FSEP Worksheet'!G14) | H38: =IF('FSEP Worksheet'!H14="","",'FSEP Worksheet'!H14) | I38: =IF('FSEP Worksheet'!I14="","",'FSEP Worksheet'!I14) | J38: =IF('FSEP Worksheet'!J14="","",'FSEP Worksheet'!J14) | ... M38: =IF('FSEP Worksheet'!M14="","",'FSEP Worksheet'!M14) | N38: =IF(AA38="","",TEXT(MIN(VALUE(AA38),VALUE(W38)),"mm/yyyy")) | O38: =IFERROR(IF(T38="","",IF(VALUE(N38)<VALUE(T38),"Replacement Anticipated","No Replacement")),"Confirm Yellow Cells above") | P38: {=IF(O38="","",IF(O38="confirm yellow cells above","More info needed",IF(AND(O38="Replacement Anticipated",OR(I38={"Hybrid-Electric (HYBRID)","Internal Combustion (ICE)"}),M38="No"),"Additional ZEV","No Change in ZEV Count")))} | Q38: {=IF(G38="","",IF(AVERAGE(K38:L38)<IF(M38="YES",_xlfn.XLOOKUP(G38&"PSSP",'Replacement Schedule'!$C$23:$C$44&'Replacement Schedule'!$D$23:$D$44,'Replacement Schedule'!$E$23:$E$44),_xlfn.XLOOKUP(G38&H38,'Replacement Schedule'!$C$23:$C$44&'Replacement Schedule'!$D$23:$D$44,'Replacement Schedule'!$E$23:$E$44)),"Additional Verification Needed","Passes Validation"))} | R38: {=IF(G38="","",IF(M38="YES",_xlfn.XLOOKUP(G38&"PSSP",'Replacement Schedule'!$C$23:$C$44&'Replacement Schedule'!$D$23:$D$44,'Replacement Schedule'!$E$23:$E$44),_xlfn.XLOOKUP(G38&H38,'Replacement Schedule'!$C$23:$C$44&'Replacement Schedule'!$D$23:$D$44,'Replacement Schedule'!$E$23:$E$44)))} | S38: =IF(C38="","",IF($F$8="","Need Lease Start",TEXT($F$8,"mm/yyyy"))) | T38: =IF(C38="","",TEXT(EDATE(S38,($F$6*12)+$F$7),"mm/yyyy")) | U38: {=IF(C38="","",IF(M38="yes", _xlfn.XLOOKUP("Law Enforcement",'Replacement Schedule'!$D$3:$D$20,'Replacement Schedule'!$F$3:$F$20),_xlfn.XLOOKUP(G38&H38,'Replacement Schedule'!$D$3:$D$20&'Replacement Schedule'!$H$3:$H$20,'Replacement Schedule'!$F$3:$F$20)))} | V38: =IF(D38="","",YEAR(NOW())-D38) | W38: =IF(U38="","",TEXT(EDATE(DATE(YEAR(NOW()),1,1),(U38*12-V38*12)),"mm/yyyy")) | X38: =IF(C38="","",ROUNDUP(AVERAGE(K38,L38)/12,0)) | Y38: {=IF(C38="","",_xlfn.XLOOKUP(G38&H38,'Replacement Schedule'!$D$3:$D$20&'Replacement Schedule'!$H$3:$H$20,'Replacement Schedule'!$G$3:$G$20))} | Z38: =IF(Y38="","",Y38-J38) | AA38: =IF(Z38="","",TEXT(EDATE(NOW(),ROUND(Z38/X38,0)),"mm/yyyy")) | AB38: =IF(W38="","",IF(VALUE(AA38)>VALUE(W38),"Model Age Threshold","Mileage Threshold")) | AC38: =IF(I38="Internal Combustion (ICE)","ICE",IF($D38<2011,"Replace",VLOOKUP($D38,$AG$2:$AH$11,2))) -> #N/A
B39: 7 | C39: =IF('FSEP Worksheet'!C15="","",'FSEP Worksheet'!C15) | D39: =IF('FSEP Worksheet'!D15="","",'FSEP Worksheet'!D15) | E39: =IF('FSEP Worksheet'!E15="","",'FSEP Worksheet'!E15) | F39: =IF('FSEP Worksheet'!F15="","",'FSEP Worksheet'!F15) | G39: =IF('FSEP Worksheet'!G15="","",'FSEP Worksheet'!G15) | H39: =IF('FSEP Worksheet'!H15="","",'FSEP Worksheet'!H15) | I39: =IF('FSEP Worksheet'!I15="","",'FSEP Worksheet'!I15) | J39: =IF('FSEP Worksheet'!J15="","",'FSEP Worksheet'!J15) | ... M39: =IF('FSEP Worksheet'!M15="","",'FSEP Worksheet'!M15) | N39: =IF(AA39="","",TEXT(MIN(VALUE(AA39),VALUE(W39)),"mm/yyyy")) | O39: =IFERROR(IF(T39="","",IF(VALUE(N39)<VALUE(T39),"Replacement Anticipated","No Replacement")),"Confirm Yellow Cells above") | P39: {=IF(O39="","",IF(O39="confirm yellow cells above","More info needed",IF(AND(O39="Replacement Anticipated",OR(I39={"Hybrid-Electric (HYBRID)","Internal Combustion (ICE)"}),M39="No"),"Additional ZEV","No Change in ZEV Count")))} | Q39: {=IF(G39="","",IF(AVERAGE(K39:L39)<IF(M39="YES",_xlfn.XLOOKUP(G39&"PSSP",'Replacement Schedule'!$C$23:$C$44&'Replacement Schedule'!$D$23:$D$44,'Replacement Schedule'!$E$23:$E$44),_xlfn.XLOOKUP(G39&H39,'Replacement Schedule'!$C$23:$C$44&'Replacement Schedule'!$D$23:$D$44,'Replacement Schedule'!$E$23:$E$44)),"Additional Verification Needed","Passes Validation"))} | R39: {=IF(G39="","",IF(M39="YES",_xlfn.XLOOKUP(G39&"PSSP",'Replacement Schedule'!$C$23:$C$44&'Replacement Schedule'!$D$23:$D$44,'Replacement Schedule'!$E$23:$E$44),_xlfn.XLOOKUP(G39&H39,'Replacement Schedule'!$C$23:$C$44&'Replacement Schedule'!$D$23:$D$44,'Replacement Schedule'!$E$23:$E$44)))} | S39: =IF(C39="","",IF($F$8="","Need Lease Start",TEXT($F$8,"mm/yyyy"))) | T39: =IF(C39="","",TEXT(EDATE(S39,($F$6*12)+$F$7),"mm/yyyy")) | U39: {=IF(C39="","",IF(M39="yes", _xlfn.XLOOKUP("Law Enforcement",'Replacement Schedule'!$D$3:$D$20,'Replacement Schedule'!$F$3:$F$20),_xlfn.XLOOKUP(G39&H39,'Replacement Schedule'!$D$3:$D$20&'Replacement Schedule'!$H$3:$H$20,'Replacement Schedule'!$F$3:$F$20)))} | V39: =IF(D39="","",YEAR(NOW())-D39) | W39: =IF(U39="","",TEXT(EDATE(DATE(YEAR(NOW()),1,1),(U39*12-V39*12)),"mm/yyyy")) | X39: =IF(C39="","",ROUNDUP(AVERAGE(K39,L39)/12,0)) | Y39: {=IF(C39="","",_xlfn.XLOOKUP(G39&H39,'Replacement Schedule'!$D$3:$D$20&'Replacement Schedule'!$H$3:$H$20,'Replacement Schedule'!$G$3:$G$20))} | Z39: =IF(Y39="","",Y39-J39) | AA39: =IF(Z39="","",TEXT(EDATE(NOW(),ROUND(Z39/X39,0)),"mm/yyyy")) | AB39: =IF(W39="","",IF(VALUE(AA39)>VALUE(W39),"Model Age Threshold","Mileage Threshold")) | AC39: =IF(I39="Internal Combustion (ICE)","ICE",IF($D39<2011,"Replace",VLOOKUP($D39,$AG$2:$AH$11,2))) -> #N/A
B40: 8 | C40: =IF('FSEP Worksheet'!C16="","",'FSEP Worksheet'!C16) | D40: =IF('FSEP Worksheet'!D16="","",'FSEP Worksheet'!D16) | E40: =IF('FSEP Worksheet'!E16="","",'FSEP Worksheet'!E16) | F40: =IF('FSEP Worksheet'!F16="","",'FSEP Worksheet'!F16) | G40: =IF('FSEP Worksheet'!G16="","",'FSEP Worksheet'!G16) | H40: =IF('FSEP Worksheet'!H16="","",'FSEP Worksheet'!H16) | I40: =IF('FSEP Worksheet'!I16="","",'FSEP Worksheet'!I16) | J40: =IF('FSEP Worksheet'!J16="","",'FSEP Worksheet'!J16) | ... M40: =IF('FSEP Worksheet'!M16="","",'FSEP Worksheet'!M16) | N40: =IF(AA40="","",TEXT(MIN(VALUE(AA40),VALUE(W40)),"mm/yyyy")) | O40: =IFERROR(IF(T40="","",IF(VALUE(N40)<VALUE(T40),"Replacement Anticipated","No Replacement")),"Confirm Yellow Cells above") | P40: {=IF(O40="","",IF(O40="confirm yellow cells above","More info needed",IF(AND(O40="Replacement Anticipated",OR(I40={"Hybrid-Electric (HYBRID)","Internal Combustion (ICE)"}),M40="No"),"Additional ZEV","No Change in ZEV Count")))} | Q40: {=IF(G40="","",IF(AVERAGE(K40:L40)<IF(M40="YES",_xlfn.XLOOKUP(G40&"PSSP",'Replacement Schedule'!$C$23:$C$44&'Replacement Schedule'!$D$23:$D$44,'Replacement Schedule'!$E$23:$E$44),_xlfn.XLOOKUP(G40&H40,'Replacement Schedule'!$C$23:$C$44&'Replacement Schedule'!$D$23:$D$44,'Replacement Schedule'!$E$23:$E$44)),"Additional Verification Needed","Passes Validation"))} | R40: {=IF(G40="","",IF(M40="YES",_xlfn.XLOOKUP(G40&"PSSP",'Replacement Schedule'!$C$23:$C$44&'Replacement Schedule'!$D$23:$D$44,'Replacement Schedule'!$E$23:$E$44),_xlfn.XLOOKUP(G40&H40,'Replacement Schedule'!$C$23:$C$44&'Replacement Schedule'!$D$23:$D$44,'Replacement Schedule'!$E$23:$E$44)))} | S40: =IF(C40="","",IF($F$8="","Need Lease Start",TEXT($F$8,"mm/yyyy"))) | T40: =IF(C40="","",TEXT(EDATE(S40,($F$6*12)+$F$7),"mm/yyyy")) | U40: {=IF(C40="","",IF(M40="yes", _xlfn.XLOOKUP("Law Enforcement",'Replacement Schedule'!$D$3:$D$20,'Replacement Schedule'!$F$3:$F$20),_xlfn.XLOOKUP(G40&H40,'Replacement Schedule'!$D$3:$D$20&'Replacement Schedule'!$H$3:$H$20,'Replacement Schedule'!$F$3:$F$20)))} | V40: =IF(D40="","",YEAR(NOW())-D40) | W40: =IF(U40="","",TEXT(EDATE(DATE(YEAR(NOW()),1,1),(U40*12-V40*12)),"mm/yyyy")) | X40: =IF(C40="","",ROUNDUP(AVERAGE(K40,L40)/12,0)) | Y40: {=IF(C40="","",_xlfn.XLOOKUP(G40&H40,'Replacement Schedule'!$D$3:$D$20&'Replacement Schedule'!$H$3:$H$20,'Replacement Schedule'!$G$3:$G$20))} | Z40: =IF(Y40="","",Y40-J40) | AA40: =IF(Z40="","",TEXT(EDATE(NOW(),ROUND(Z40/X40,0)),"mm/yyyy")) | AB40: =IF(W40="","",IF(VALUE(AA40)>VALUE(W40),"Model Age Threshold","Mileage Threshold")) | AC40: =IF(I40="Internal Combustion (ICE)","ICE",IF($D40<2011,"Replace",VLOOKUP($D40,$AG$2:$AH$11,2))) -> #N/A
B41: 9 | C41: =IF('FSEP Worksheet'!C17="","",'FSEP Worksheet'!C17) | D41: =IF('FSEP Worksheet'!D17="","",'FSEP Worksheet'!D17) | E41: =IF('FSEP Worksheet'!E17="","",'FSEP Worksheet'!E17) | F41: =IF('FSEP Worksheet'!F17="","",'FSEP Worksheet'!F17) | G41: =IF('FSEP Worksheet'!G17="","",'FSEP Worksheet'!G17) | H41: =IF('FSEP Worksheet'!H17="","",'FSEP Worksheet'!H17) | I41: =IF('FSEP Worksheet'!I17="","",'FSEP Worksheet'!I17) | J41: =IF('FSEP Worksheet'!J17="","",'FSEP Worksheet'!J17) | ... M41: =IF('FSEP Worksheet'!M17="","",'FSEP Worksheet'!M17) | N41: =IF(AA41="","",TEXT(MIN(VALUE(AA41),VALUE(W41)),"mm/yyyy")) | O41: =IFERROR(IF(T41="","",IF(VALUE(N41)<VALUE(T41),"Replacement Anticipated","No Replacement")),"Confirm Yellow Cells above") | P41: {=IF(O41="","",IF(O41="confirm yellow cells above","More info needed",IF(AND(O41="Replacement Anticipated",OR(I41={"Hybrid-Electric (HYBRID)","Internal Combustion (ICE)"}),M41="No"),"Additional ZEV","No Change in ZEV Count")))} | Q41: {=IF(G41="","",IF(AVERAGE(K41:L41)<IF(M41="YES",_xlfn.XLOOKUP(G41&"PSSP",'Replacement Schedule'!$C$23:$C$44&'Replacement Schedule'!$D$23:$D$44,'Replacement Schedule'!$E$23:$E$44),_xlfn.XLOOKUP(G41&H41,'Replacement Schedule'!$C$23:$C$44&'Replacement Schedule'!$D$23:$D$44,'Replacement Schedule'!$E$23:$E$44)),"Additional Verification Needed","Passes Validation"))} | R41: {=IF(G41="","",IF(M41="YES",_xlfn.XLOOKUP(G41&"PSSP",'Replacement Schedule'!$C$23:$C$44&'Replacement Schedule'!$D$23:$D$44,'Replacement Schedule'!$E$23:$E$44),_xlfn.XLOOKUP(G41&H41,'Replacement Schedule'!$C$23:$C$44&'Replacement Schedule'!$D$23:$D$44,'Replacement Schedule'!$E$23:$E$44)))} | S41: =IF(C41="","",IF($F$8="","Need Lease Start",TEXT($F$8,"mm/yyyy"))) | T41: =IF(C41="","",TEXT(EDATE(S41,($F$6*12)+$F$7),"mm/yyyy")) | U41: {=IF(C41="","",IF(M41="yes", _xlfn.XLOOKUP("Law Enforcement",'Replacement Schedule'!$D$3:$D$20,'Replacement Schedule'!$F$3:$F$20),_xlfn.XLOOKUP(G41&H41,'Replacement Schedule'!$D$3:$D$20&'Replacement Schedule'!$H$3:$H$20,'Replacement Schedule'!$F$3:$F$20)))} | V41: =IF(D41="","",YEAR(NOW())-D41) | W41: =IF(U41="","",TEXT(EDATE(DATE(YEAR(NOW()),1,1),(U41*12-V41*12)),"mm/yyyy")) | X41: =IF(C41="","",ROUNDUP(AVERAGE(K41,L41)/12,0)) | Y41: {=IF(C41="","",_xlfn.XLOOKUP(G41&H41,'Replacement Schedule'!$D$3:$D$20&'Replacement Schedule'!$H$3:$H$20,'Replacement Schedule'!$G$3:$G$20))} | Z41: =IF(Y41="","",Y41-J41) | AA41: =IF(Z41="","",TEXT(EDATE(NOW(),ROUND(Z41/X41,0)),"mm/yyyy")) | AB41: =IF(W41="","",IF(VALUE(AA41)>VALUE(W41),"Model Age Threshold","Mileage Threshold")) | AC41: =IF(I41="Internal Combustion (ICE)","ICE",IF($D41<2011,"Replace",VLOOKUP($D41,$AG$2:$AH$11,2))) -> #N/A
B42: 10 | C42: =IF('FSEP Worksheet'!C18="","",'FSEP Worksheet'!C18) | D42: =IF('FSEP Worksheet'!D18="","",'FSEP Worksheet'!D18) | E42: =IF('FSEP Worksheet'!E18="","",'FSEP Worksheet'!E18) | F42: =IF('FSEP Worksheet'!F18="","",'FSEP Worksheet'!F18) | G42: =IF('FSEP Worksheet'!G18="","",'FSEP Worksheet'!G18) | H42: =IF('FSEP Worksheet'!H18="","",'FSEP Worksheet'!H18) | I42: =IF('FSEP Worksheet'!I18="","",'FSEP Worksheet'!I18) | J42: =IF('FSEP Worksheet'!J18="","",'FSEP Worksheet'!J18) | ... M42: =IF('FSEP Worksheet'!M18="","",'FSEP Worksheet'!M18) | N42: =IF(AA42="","",TEXT(MIN(VALUE(AA42),VALUE(W42)),"mm/yyyy")) | O42: =IFERROR(IF(T42="","",IF(VALUE(N42)<VALUE(T42),"Replacement Anticipated","No Replacement")),"Confirm Yellow Cells above") | P42: {=IF(O42="","",IF(O42="confirm yellow cells above","More info needed",IF(AND(O42="Replacement Anticipated",OR(I42={"Hybrid-Electric (HYBRID)","Internal Combustion (ICE)"}),M42="No"),"Additional ZEV","No Change in ZEV Count")))} | Q42: {=IF(G42="","",IF(AVERAGE(K42:L42)<IF(M42="YES",_xlfn.XLOOKUP(G42&"PSSP",'Replacement Schedule'!$C$23:$C$44&'Replacement Schedule'!$D$23:$D$44,'Replacement Schedule'!$E$23:$E$44),_xlfn.XLOOKUP(G42&H42,'Replacement Schedule'!$C$23:$C$44&'Replacement Schedule'!$D$23:$D$44,'Replacement Schedule'!$E$23:$E$44)),"Additional Verification Needed","Passes Validation"))} | R42: {=IF(G42="","",IF(M42="YES",_xlfn.XLOOKUP(G42&"PSSP",'Replacement Schedule'!$C$23:$C$44&'Replacement Schedule'!$D$23:$D$44,'Replacement Schedule'!$E$23:$E$44),_xlfn.XLOOKUP(G42&H42,'Replacement Schedule'!$C$23:$C$44&'Replacement Schedule'!$D$23:$D$44,'Replacement Schedule'!$E$23:$E$44)))} | S42: =IF(C42="","",IF($F$8="","Need Lease Start",TEXT($F$8,"mm/yyyy"))) | T42: =IF(C42="","",TEXT(EDATE(S42,($F$6*12)+$F$7),"mm/yyyy")) | U42: {=IF(C42="","",IF(M42="yes", _xlfn.XLOOKUP("Law Enforcement",'Replacement Schedule'!$D$3:$D$20,'Replacement Schedule'!$F$3:$F$20),_xlfn.XLOOKUP(G42&H42,'Replacement Schedule'!$D$3:$D$20&'Replacement Schedule'!$H$3:$H$20,'Replacement Schedule'!$F$3:$F$20)))} | V42: =IF(D42="","",YEAR(NOW())-D42) | W42: =IF(U42="","",TEXT(EDATE(DATE(YEAR(NOW()),1,1),(U42*12-V42*12)),"mm/yyyy")) | X42: =IF(C42="","",ROUNDUP(AVERAGE(K42,L42)/12,0)) | Y42: {=IF(C42="","",_xlfn.XLOOKUP(G42&H42,'Replacement Schedule'!$D$3:$D$20&'Replacement Schedule'!$H$3:$H$20,'Replacement Schedule'!$G$3:$G$20))} | Z42: =IF(Y42="","",Y42-J42) | AA42: =IF(Z42="","",TEXT(EDATE(NOW(),ROUND(Z42/X42,0)),"mm/yyyy")) | AB42: =IF(W42="","",IF(VALUE(AA42)>VALUE(W42),"Model Age Threshold","Mileage Threshold")) | AC42: =IF(I42="Internal Combustion (ICE)","ICE",IF($D42<2011,"Replace",VLOOKUP($D42,$AG$2:$AH$11,2))) -> #N/A
B43: 11 | C43: =IF('FSEP Worksheet'!C19="","",'FSEP Worksheet'!C19) | D43: =IF('FSEP Worksheet'!D19="","",'FSEP Worksheet'!D19) | E43: =IF('FSEP Worksheet'!E19="","",'FSEP Worksheet'!E19) | F43: =IF('FSEP Worksheet'!F19="","",'FSEP Worksheet'!F19) | G43: =IF('FSEP Worksheet'!G19="","",'FSEP Worksheet'!G19) | H43: =IF('FSEP Worksheet'!H19="","",'FSEP Worksheet'!H19) | I43: =IF('FSEP Worksheet'!I19="","",'FSEP Worksheet'!I19) | J43: =IF('FSEP Worksheet'!J19="","",'FSEP Worksheet'!J19) | ... M43: =IF('FSEP Worksheet'!M19="","",'FSEP Worksheet'!M19) | N43: =IF(AA43="","",TEXT(MIN(VALUE(AA43),VALUE(W43)),"mm/yyyy")) | O43: =IFERROR(IF(T43="","",IF(VALUE(N43)<VALUE(T43),"Replacement Anticipated","No Replacement")),"Confirm Yellow Cells above") | P43: {=IF(O43="","",IF(O43="confirm yellow cells above","More info needed",IF(AND(O43="Replacement Anticipated",OR(I43={"Hybrid-Electric (HYBRID)","Internal Combustion (ICE)"}),M43="No"),"Additional ZEV","No Change in ZEV Count")))} | Q43: {=IF(G43="","",IF(AVERAGE(K43:L43)<IF(M43="YES",_xlfn.XLOOKUP(G43&"PSSP",'Replacement Schedule'!$C$23:$C$44&'Replacement Schedule'!$D$23:$D$44,'Replacement Schedule'!$E$23:$E$44),_xlfn.XLOOKUP(G43&H43,'Replacement Schedule'!$C$23:$C$44&'Replacement Schedule'!$D$23:$D$44,'Replacement Schedule'!$E$23:$E$44)),"Additional Verification Needed","Passes Validation"))} | R43: {=IF(G43="","",IF(M43="YES",_xlfn.XLOOKUP(G43&"PSSP",'Replacement Schedule'!$C$23:$C$44&'Replacement Schedule'!$D$23:$D$44,'Replacement Schedule'!$E$23:$E$44),_xlfn.XLOOKUP(G43&H43,'Replacement Schedule'!$C$23:$C$44&'Replacement Schedule'!$D$23:$D$44,'Replacement Schedule'!$E$23:$E$44)))} | S43: =IF(C43="","",IF($F$8="","Need Lease Start",TEXT($F$8,"mm/yyyy"))) | T43: =IF(C43="","",TEXT(EDATE(S43,($F$6*12)+$F$7),"mm/yyyy")) | U43: {=IF(C43="","",IF(M43="yes", _xlfn.XLOOKUP("Law Enforcement",'Replacement Schedule'!$D$3:$D$20,'Replacement Schedule'!$F$3:$F$20),_xlfn.XLOOKUP(G43&H43,'Replacement Schedule'!$D$3:$D$20&'Replacement Schedule'!$H$3:$H$20,'Replacement Schedule'!$F$3:$F$20)))} | V43: =IF(D43="","",YEAR(NOW())-D43) | W43: =IF(U43="","",TEXT(EDATE(DATE(YEAR(NOW()),1,1),(U43*12-V43*12)),"mm/yyyy")) | X43: =IF(C43="","",ROUNDUP(AVERAGE(K43,L43)/12,0)) | Y43: {=IF(C43="","",_xlfn.XLOOKUP(G43&H43,'Replacement Schedule'!$D$3:$D$20&'Replacement Schedule'!$H$3:$H$20,'Replacement Schedule'!$G$3:$G$20))} | Z43: =IF(Y43="","",Y43-J43) | AA43: =IF(Z43="","",TEXT(EDATE(NOW(),ROUND(Z43/X43,0)),"mm/yyyy")) | AB43: =IF(W43="","",IF(VALUE(AA43)>VALUE(W43),"Model Age Threshold","Mileage Threshold")) | AC43: =IF(I43="Internal Combustion (ICE)","ICE",IF($D43<2011,"Replace",VLOOKUP($D43,$AG$2:$AH$11,2))) -> #N/A
B44: 12 | C44: =IF('FSEP Worksheet'!C20="","",'FSEP Worksheet'!C20) | D44: =IF('FSEP Worksheet'!D20="","",'FSEP Worksheet'!D20) | E44: =IF('FSEP Worksheet'!E20="","",'FSEP Worksheet'!E20) | F44: =IF('FSEP Worksheet'!F20="","",'FSEP Worksheet'!F20) | G44: =IF('FSEP Worksheet'!G20="","",'FSEP Worksheet'!G20) | H44: =IF('FSEP Worksheet'!H20="","",'FSEP Worksheet'!H20) | I44: =IF('FSEP Worksheet'!I20="","",'FSEP Worksheet'!I20) | J44: =IF('FSEP Worksheet'!J20="","",'FSEP Worksheet'!J20) | ... M44: =IF('FSEP Worksheet'!M20="","",'FSEP Worksheet'!M20) | N44: =IF(AA44="","",TEXT(MIN(VALUE(AA44),VALUE(W44)),"mm/yyyy")) | O44: =IFERROR(IF(T44="","",IF(VALUE(N44)<VALUE(T44),"Replacement Anticipated","No Replacement")),"Confirm Yellow Cells above") | P44: {=IF(O44="","",IF(O44="confirm yellow cells above","More info needed",IF(AND(O44="Replacement Anticipated",OR(I44={"Hybrid-Electric (HYBRID)","Internal Combustion (ICE)"}),M44="No"),"Additional ZEV","No Change in ZEV Count")))} | Q44: {=IF(G44="","",IF(AVERAGE(K44:L44)<IF(M44="YES",_xlfn.XLOOKUP(G44&"PSSP",'Replacement Schedule'!$C$23:$C$44&'Replacement Schedule'!$D$23:$D$44,'Replacement Schedule'!$E$23:$E$44),_xlfn.XLOOKUP(G44&H44,'Replacement Schedule'!$C$23:$C$44&'Replacement Schedule'!$D$23:$D$44,'Replacement Schedule'!$E$23:$E$44)),"Additional Verification Needed","Passes Validation"))} | R44: {=IF(G44="","",IF(M44="YES",_xlfn.XLOOKUP(G44&"PSSP",'Replacement Schedule'!$C$23:$C$44&'Replacement Schedule'!$D$23:$D$44,'Replacement Schedule'!$E$23:$E$44),_xlfn.XLOOKUP(G44&H44,'Replacement Schedule'!$C$23:$C$44&'Replacement Schedule'!$D$23:$D$44,'Replacement Schedule'!$E$23:$E$44)))} | S44: =IF(C44="","",IF($F$8="","Need Lease Start",TEXT($F$8,"mm/yyyy"))) | T44: =IF(C44="","",TEXT(EDATE(S44,($F$6*12)+$F$7),"mm/yyyy")) | U44: {=IF(C44="","",IF(M44="yes", _xlfn.XLOOKUP("Law Enforcement",'Replacement Schedule'!$D$3:$D$20,'Replacement Schedule'!$F$3:$F$20),_xlfn.XLOOKUP(G44&H44,'Replacement Schedule'!$D$3:$D$20&'Replacement Schedule'!$H$3:$H$20,'Replacement Schedule'!$F$3:$F$20)))} | V44: =IF(D44="","",YEAR(NOW())-D44) | W44: =IF(U44="","",TEXT(EDATE(DATE(YEAR(NOW()),1,1),(U44*12-V44*12)),"mm/yyyy")) | X44: =IF(C44="","",ROUNDUP(AVERAGE(K44,L44)/12,0)) | Y44: {=IF(C44="","",_xlfn.XLOOKUP(G44&H44,'Replacement Schedule'!$D$3:$D$20&'Replacement Schedule'!$H$3:$H$20,'Replacement Schedule'!$G$3:$G$20))} | Z44: =IF(Y44="","",Y44-J44) | AA44: =IF(Z44="","",TEXT(EDATE(NOW(),ROUND(Z44/X44,0)),"mm/yyyy")) | AB44: =IF(W44="","",IF(VALUE(AA44)>VALUE(W44),"Model Age Threshold","Mileage Threshold")) | AC44: =IF(I44="Internal Combustion (ICE)","ICE",IF($D44<2011,"Replace",VLOOKUP($D44,$AG$2:$AH$11,2))) -> #N/A
... B132: 100 | C132: =IF('FSEP Worksheet'!C108="","",'FSEP Worksheet'!C108) | D132: =IF('FSEP Worksheet'!D108="","",'FSEP Worksheet'!D108) | E132: =IF('FSEP Worksheet'!E108="","",'FSEP Worksheet'!E108) | F132: =IF('FSEP Worksheet'!F108="","",'FSEP Worksheet'!F108) | G132: =IF('FSEP Worksheet'!G108="","",'FSEP Worksheet'!G108) | H132: =IF('FSEP Worksheet'!H108="","",'FSEP Worksheet'!H108) | I132: =IF('FSEP Worksheet'!I108="","",'FSEP Worksheet'!I108) | J132: =IF('FSEP Worksheet'!J108="","",'FSEP Worksheet'!J108) | ... M132: =IF('FSEP Worksheet'!M108="","",'FSEP Worksheet'!M108) | N132: =IF(AA132="","",TEXT(MIN(VALUE(AA132),VALUE(W132)),"mm/yyyy")) | O132: =IFERROR(IF(T132="","",IF(VALUE(N132)<VALUE(T132),"Replacement Anticipated","No Replacement")),"Confirm Yellow Cells above") | P132: {=IF(O132="","",IF(O132="confirm yellow cells above","More info needed",IF(AND(O132="Replacement Anticipated",OR(I132={"Hybrid-Electric (HYBRID)","Internal Combustion (ICE)"}),M132="No"),"Additional ZEV","No Change in ZEV Count")))} | Q132: {=IF(G132="","",IF(AVERAGE(K132:L132)<IF(M132="YES",_xlfn.XLOOKUP(G132&"PSSP",'Replacement Schedule'!$C$23:$C$44&'Replacement Schedule'!$D$23:$D$44,'Replacement Schedule'!$E$23:$E$44),_xlfn.XLOOKUP(G132&H132,'Replacement Schedule'!$C$23:$C$44&'Replacement Schedule'!$D$23:$D$44,'Replacement Schedule'!$E$23:$E$44)),"Additional Verification Needed","Passes Validation"))} | R132: {=IF(G132="","",IF(M132="YES",_xlfn.XLOOKUP(G132&"PSSP",'Replacement Schedule'!$C$23:$C$44&'Replacement Schedule'!$D$23:$D$44,'Replacement Schedule'!$E$23:$E$44),_xlfn.XLOOKUP(G132&H132,'Replacement Schedule'!$C$23:$C$44&'Replacement Schedule'!$D$23:$D$44,'Replacement Schedule'!$E$23:$E$44)))} | S132: =IF(C132="","",IF($F$8="","Need Lease Start",TEXT($F$8,"mm/yyyy"))) | T132: =IF(C132="","",TEXT(EDATE(S132,($F$6*12)+$F$7),"mm/yyyy")) | U132: {=IF(C132="","",IF(M132="yes", _xlfn.XLOOKUP("Law Enforcement",'Replacement Schedule'!$D$3:$D$20,'Replacement Schedule'!$F$3:$F$20),_xlfn.XLOOKUP(G132&H132,'Replacement Schedule'!$D$3:$D$20&'Replacement Schedule'!$H$3:$H$20,'Replacement Schedule'!$F$3:$F$20)))} | V132: =IF(D132="","",YEAR(NOW())-D132) | W132: =IF(U132="","",TEXT(EDATE(DATE(YEAR(NOW()),1,1),(U132*12-V132*12)),"mm/yyyy")) | X132: =IF(C132="","",ROUNDUP(AVERAGE(K132,L132)/12,0)) | Y132: {=IF(C132="","",_xlfn.XLOOKUP(G132&H132,'Replacement Schedule'!$D$3:$D$20&'Replacement Schedule'!$H$3:$H$20,'Replacement Schedule'!$G$3:$G$20))} | Z132: =IF(Y132="","",Y132-J132) | AA132: =IF(Z132="","",TEXT(EDATE(NOW(),ROUND(Z132/X132,0)),"mm/yyyy")) | AB132: =IF(W132="","",IF(VALUE(AA132)>VALUE(W132),"Model Age Threshold","Mileage Threshold")) | AC132: =IF(I132="Internal Combustion (ICE)","ICE",IF($D132<2011,"Replace",VLOOKUP($D132,$AG$2:$AH$11,2))) -> #N/A

Sheet Replacement Schedule
B2: # | C2: Vehicle Type Category & GVWR | D2: Vehicle Type | E2: Age vehicle in Months | F2: Age vehicle in Years | G2: Vehicle Mileage | H2: GVWR
B3: 1 | C3: Law LD | D3: Law Enforcement | E3: 60 | F3: 5 | G3: 100000 | H3: Light Duty
B4: 2 | C4: Law MD | D4: Law Enforcement | E4: 60 | F4: 5 | G4: 100000 | H4: Medium Duty
B5: 12 | C5: Pickup Truck LD | D5: Pickup | E5: 60 | F5: 5 | G5: 65000 | H5: Light Duty
C6: Pickup Truck MD | D6: Pickup | E6: 72 | F6: 6 | G6: 70000 | H6: Medium Duty
B7: 3 | C7: Sedan LD | D7: Sedan | E7: 72 | F7: 6 | G7: 65000 | H7: Light Duty
B8: 4 | C8: SUV LD | D8: SUV | E8: 84 | F8: 7 | G8: 85000 | H8: Light Duty | L8: Pickup | M8: Light Duty | N8: Battery Electric (BEV)
B9: 5 | C9: SUV MD | D9: SUV | E9: 72 | F9: 6 | G9: 70000 | H9: Medium Duty | L9: Sedan | M9: Medium Duty | N9: Fuel Cell (FCV)
B10: 6 | C10: SUV HD | D10: SUV | E10: 132 | F10: 11 | G10: 115000 | H10: Heavy Duty | L10: SUV | M10: Heavy Duty | N10: Plug-in Hybrid (PHEV)
B11: 13 | C11: Truck MD | D11: Truck | E11: 72 | F11: 6 | G11: 70000 | H11: Medium Duty | L11: Truck | N11: Hybrid-Electric (HYBRID)
B12: 14 | C12: Truck HD | D12: Truck | E12: 132 | F12: 11 | G12: 115000 | H12: Heavy Duty | L12: Van-Cargo | N12: Internal Combustion (ICE)
B13: 15 | C13: Truck LD | D13: Truck | E13: 60 | F13: 5 | G13: 65000 | H13: Light Duty | L13: Van-Minivan
B14: 8 | C14: Cargo Van LD | D14: Van-Cargo | E14: 60 | F14: 5 | G14: 65000 | H14: Light Duty | L14: Van-Passenger
B15: 21 | C15: Cargo Van MD | D15: Van-Cargo | E15: 72 | F15: 5 | G15: 70000 | H15: Medium Duty
B16: 22 | C16: Cargo Van HD | D16: Van-Cargo | E16: 132 | F16: 11 | G16: 115000 | H16: Heavy Duty
B17: 7 | C17: Minivan LD | D17: Van-Minivan | E17: 96 | F17: 8 | G17: 80000 | H17: Light Duty
B18: 9 | C18: Van MD | D18: Van-Passenger | E18: 72 | F18: 6 | G18: 70000 | H18: Medium Duty
B19: 10 | C19: Van HD | D19: Van-Passenger | E19: 132 | F19: 11 | G19: 115000 | H19: Heavy Duty
B20: 11 | C20: Van-Passenger - LD | D20: Van-Passenger | E20: 96 | F20: 8 | G20: 80000 | H20: Light Duty
B22: # | C22: Class Code | D22: GVWR | E22: Threshold
B23: 1 | C23: Pickup | D23: Light Duty | E23: 4179
B24: 2 | C24: Pickup | D24: Medium Duty | E24: 1890
B25: 3 | C25: Pickup | D25: PSSP | E25: 6000
B26: 4 | C26: Sedan | D26: Light Duty | E26: 5053
B27: 5 | C27: Sedan | D27: PSSP | E27: 2425 | L27: EVSE Ratio to vehicle as fraction
B28: 6 | C28: SUV | D28: Light Duty | E28: 6667 | L28: PHEV | M28: 0.25
B29: 7 | C29: SUV | D29: Medium Duty | E29: 6667 | L29: BEV | M29: 0.5
B30: 8 | C30: SUV | D30: Heavy Duty | E30: 6667
B31: 9 | C31: SUV | D31: PSSP | E31: 720
B32: 10 | C32: Truck | D32: Medium Duty | E32: 1890
B33: 11 | C33: Truck | D33: Heavy Duty | E33: 4000
B34: 12 | C34: Truck | D34: Light Duty | E34: 4179
B35: 13 | C35: Van-Cargo | D35: Light Duty | E35: 4149
B36: 14 | C36: Van-Minivan | D36: Light Duty | E36: 4591
B37: 15 | C37: Van-Minivan | D37: PSSP | E37: 2750
B38: 16 | C38: Van-Passenger | D38: Medium Duty | E38: 3502
B39: 17 | C39: Van - Passenger | D39: PSSP | E39: 2750
B40: 18 | C40: Van-Cargo | D40: PSSP | E40: 2750
B41: 19 | C41: Van-Passenger | D41: Heavy Duty | E41: 3502
... B44: 22 | C44: Van-Cargo | D44: Heavy Duty | E44: 3502
H47: Pickup Truck | I47: 4179
H48: Sedan | I48: 5053
H49: SUV | I49: 6667
H50: Truck - Heavy Duty | I50: 4000
H51: Truck - Light Duty | I51: 2056
H52: Truck - Medium Duty | I52: 1890
H53: Van - Light Duty | I53: 4149
H54: Van - Medium Duty | I54: 3502
H55: Van - Mini | I55: 4591
